BEGIN:VCALENDAR
VERSION:2.0
PRODID:-//Penwortham United Reformed Church - ECPv6.15.20//NONSGML v1.0//EN
CALSCALE:GREGORIAN
METHOD:PUBLISH
X-WR-CALNAME:Penwortham United Reformed Church
X-ORIGINAL-URL:https://penworthamurc.org.uk
X-WR-CALDESC:Events for Penwortham United Reformed Church
REFRESH-INTERVAL;VALUE=DURATION:PT1H
X-Robots-Tag:noindex
X-PUBLISHED-TTL:PT1H
BEGIN:VTIMEZONE
TZID:Europe/London
BEGIN:DAYLIGHT
TZOFFSETFROM:+0000
TZOFFSETTO:+0100
TZNAME:BST
DTSTART:20240331T010000
END:DAYLIGHT
BEGIN:STANDARD
TZOFFSETFROM:+0100
TZOFFSETTO:+0000
TZNAME:GMT
DTSTART:20241027T010000
END:STANDARD
BEGIN:DAYLIGHT
TZOFFSETFROM:+0000
TZOFFSETTO:+0100
TZNAME:BST
DTSTART:20250330T010000
END:DAYLIGHT
BEGIN:STANDARD
TZOFFSETFROM:+0100
TZOFFSETTO:+0000
TZNAME:GMT
DTSTART:20251026T010000
END:STANDARD
BEGIN:DAYLIGHT
TZOFFSETFROM:+0000
TZOFFSETTO:+0100
TZNAME:BST
DTSTART:20260329T010000
END:DAYLIGHT
BEGIN:STANDARD
TZOFFSETFROM:+0100
TZOFFSETTO:+0000
TZNAME:GMT
DTSTART:20261025T010000
END:STANDARD
END:VTIMEZONE
BEGIN:VEVENT
DTSTART;TZID=Europe/London:20251005T150000
DTEND;TZID=Europe/London:20251005T160000
DTSTAMP:20260422T161944
CREATED:20250830T104628Z
LAST-MODIFIED:20250830T104753Z
UID:9011-1759676400-1759680000@penworthamurc.org.uk
SUMMARY:Family Worship with the Sacrament of Holy Communion
DESCRIPTION:Led by Rev’d Martin Whiffen \nFollowed by refreshments  \n  \n  \n 
URL:https://penworthamurc.org.uk/event/family-worship-with-the-sacrament-of-holy-communion-28/
LOCATION:PURC
CATEGORIES:Church Activities,Special Services
END:VEVENT
BEGIN:VEVENT
DTSTART;TZID=Europe/London:20251012T070000
DTEND;TZID=Europe/London:20251012T210000
DTSTAMP:20260422T161944
CREATED:20250830T114427Z
LAST-MODIFIED:20250830T114514Z
UID:9031-1760252400-1760302800@penworthamurc.org.uk
SUMMARY:Last Night of the Proms at Leyland URC
DESCRIPTION: Leyland URC “Last Night of the Proms” Event – Sunday 12 October 2025 at 7.00pm \nClick Icon
URL:https://penworthamurc.org.uk/event/last-night-of-the-proms-at-leyland-urc/
CATEGORIES:Community Activities
END:VEVENT
BEGIN:VEVENT
DTSTART;TZID=Europe/London:20251012T103000
DTEND;TZID=Europe/London:20251012T113000
DTSTAMP:20260422T161944
CREATED:20250830T103812Z
LAST-MODIFIED:20250830T160628Z
UID:9003-1760265000-1760268600@penworthamurc.org.uk
SUMMARY:Family Worship and Parade Service - with 5th Penwortham Scout Group
DESCRIPTION:Led by To Be Confirmed \n 
URL:https://penworthamurc.org.uk/event/family-worship-and-parade-service-with-5th-penwortham-scout-group-13/
LOCATION:PURC
CATEGORIES:Church Activities,Special Services
END:VEVENT
BEGIN:VEVENT
DTSTART;TZID=Europe/London:20251018T103000
DTEND;TZID=Europe/London:20251018T123000
DTSTAMP:20260422T161944
CREATED:20250830T105318Z
LAST-MODIFIED:20250830T105500Z
UID:9017-1760783400-1760790600@penworthamurc.org.uk
SUMMARY:Penwortham Bead Group 10:30 - 12:30 on 3rd Saturday of each month
DESCRIPTION:Led by Esther Turner   07855143050\, meets 3rd Saturday of each month\n£5.00 per session in Church Hall attached to the Church \nCome and see what we are about. Have a chat\, a laugh and get help on your project if needed. Have a coffee/tea and cake. Bring your own cup. The more the merrier. Looking forward to seeing you
URL:https://penworthamurc.org.uk/event/penwortham-bead-group-1030-1230-on-3rd-saturday-of-each-month-21/
CATEGORIES:Community Activities
END:VEVENT
BEGIN:VEVENT
DTSTART;TZID=Europe/London:20251019T103000
DTEND;TZID=Europe/London:20251019T113000
DTSTAMP:20260422T161944
CREATED:20250830T104900Z
LAST-MODIFIED:20250830T105042Z
UID:9013-1760869800-1760873400@penworthamurc.org.uk
SUMMARY:Family Worship
DESCRIPTION:Led by Rev’d Brian Drury \nFollowed by Refreshments \n 
URL:https://penworthamurc.org.uk/event/family-worship-66/
LOCATION:PURC
CATEGORIES:Church Activities
END:VEVENT
BEGIN:VEVENT
DTSTART;TZID=Europe/London:20251021T190000
DTEND;TZID=Europe/London:20251021T201500
DTSTAMP:20260422T161944
CREATED:20250830T102603Z
LAST-MODIFIED:20250830T103228Z
UID:8995-1761073200-1761077700@penworthamurc.org.uk
SUMMARY:PURC -  Community Choir
DESCRIPTION:Penwortham URC – Community Choir  21 October 2025 – 7:00-8:15 pm. For info. contact Katie penworthamurcfamily worker@gmail.com
URL:https://penworthamurc.org.uk/event/purc-community-choir-7/
CATEGORIES:Church Activities,Community Activities
END:VEVENT
BEGIN:VEVENT
DTSTART;TZID=Europe/London:20251026T103000
DTEND;TZID=Europe/London:20251026T113000
DTSTAMP:20260422T161944
CREATED:20250830T105116Z
LAST-MODIFIED:20250830T105216Z
UID:9015-1761474600-1761478200@penworthamurc.org.uk
SUMMARY:Family Worship
DESCRIPTION:Led by To Be Confirmed \n  \n 
URL:https://penworthamurc.org.uk/event/family-worship-67/
LOCATION:PURC
CATEGORIES:Church Activities
END:VEVENT
BEGIN:VEVENT
DTSTART;TZID=Europe/London:20251027T140000
DTEND;TZID=Europe/London:20251027T160000
DTSTAMP:20260422T161944
CREATED:20250926T184703Z
LAST-MODIFIED:20250926T190123Z
UID:9133-1761573600-1761580800@penworthamurc.org.uk
SUMMARY:Community Social Afternoon - 2pm Mon. 27 Oct
DESCRIPTION:Come and meet Greg Anderton\, RHS Gold Award winning horticulturalist as he talks about Creating a Beautiful Autumn Garden. For more details click on the poster icon on the left. Followed by Refreshments.      Cost £4.00. Do come along and bring a friend.
URL:https://penworthamurc.org.uk/event/community-social-afternoon-2pm-monday-27-oct/
CATEGORIES:Church Activities,Community Activities
END:VEVENT
END:VCALENDAR