BEGIN:VCALENDAR
VERSION:2.0
PRODID:-//Penwortham United Reformed Church - ECPv6.15.20//NONSGML v1.0//EN
CALSCALE:GREGORIAN
METHOD:PUBLISH
X-ORIGINAL-URL:https://penworthamurc.org.uk
X-WR-CALDESC:Events for Penwortham United Reformed Church
REFRESH-INTERVAL;VALUE=DURATION:PT1H
X-Robots-Tag:noindex
X-PUBLISHED-TTL:PT1H
BEGIN:VTIMEZONE
TZID:Europe/London
BEGIN:DAYLIGHT
TZOFFSETFROM:+0000
TZOFFSETTO:+0100
TZNAME:BST
DTSTART:20240331T010000
END:DAYLIGHT
BEGIN:STANDARD
TZOFFSETFROM:+0100
TZOFFSETTO:+0000
TZNAME:GMT
DTSTART:20241027T010000
END:STANDARD
BEGIN:DAYLIGHT
TZOFFSETFROM:+0000
TZOFFSETTO:+0100
TZNAME:BST
DTSTART:20250330T010000
END:DAYLIGHT
BEGIN:STANDARD
TZOFFSETFROM:+0100
TZOFFSETTO:+0000
TZNAME:GMT
DTSTART:20251026T010000
END:STANDARD
BEGIN:DAYLIGHT
TZOFFSETFROM:+0000
TZOFFSETTO:+0100
TZNAME:BST
DTSTART:20260329T010000
END:DAYLIGHT
BEGIN:STANDARD
TZOFFSETFROM:+0100
TZOFFSETTO:+0000
TZNAME:GMT
DTSTART:20261025T010000
END:STANDARD
END:VTIMEZONE
BEGIN:VEVENT
DTSTART;TZID=Europe/London:20250601T103000
DTEND;TZID=Europe/London:20250601T233000
DTSTAMP:20260419T214457
CREATED:20250425T142352Z
LAST-MODIFIED:20250425T142803Z
UID:8766-1748773800-1748820600@penworthamurc.org.uk
SUMMARY:Family Worship with the Sacrament of Holy Communion
DESCRIPTION:Led by Rev’d Anton Muller \nFollowed by refreshments \n 
URL:https://penworthamurc.org.uk/event/family-worship-with-the-sacrament-of-holy-communion-25/
LOCATION:PURC
CATEGORIES:Church Activities,Special Services
END:VEVENT
BEGIN:VEVENT
DTSTART;TZID=Europe/London:20250602T140000
DTEND;TZID=Europe/London:20250602T160000
DTSTAMP:20260419T214457
CREATED:20250425T145215Z
LAST-MODIFIED:20250530T122623Z
UID:8784-1748872800-1748880000@penworthamurc.org.uk
SUMMARY:Community Social Afternoon
DESCRIPTION:An Interactive Talk by Jimmy O’Donnell on the Power of Reminiscence. Click the Event Title above and then the Poster Icon that appears for more information  \nFollowed by Refreshments  Cost £4.00. Do come along and bring a friend. \nAll Welcome \n 
URL:https://penworthamurc.org.uk/event/community-social-afternoon-5/
CATEGORIES:Church Activities,Community Activities
END:VEVENT
BEGIN:VEVENT
DTSTART;TZID=Europe/London:20250603T191500
DTEND;TZID=Europe/London:20250603T201500
DTSTAMP:20260419T214457
CREATED:20250530T123303Z
LAST-MODIFIED:20250530T124008Z
UID:8887-1748978100-1748981700@penworthamurc.org.uk
SUMMARY:PURC -  Community Choir
DESCRIPTION:Penwortham URC – Community Choir Tuesday 3rd June 7:00-8:15 pm. Click on Event Title above and then the Poster Icon that appears for details. \n 
URL:https://penworthamurc.org.uk/event/purc-community-choir/
CATEGORIES:Church Activities,Community Activities
END:VEVENT
BEGIN:VEVENT
DTSTART;TZID=Europe/London:20250608T103000
DTEND;TZID=Europe/London:20250608T113000
DTSTAMP:20260419T214457
CREATED:20250425T142415Z
LAST-MODIFIED:20250425T142544Z
UID:8768-1749378600-1749382200@penworthamurc.org.uk
SUMMARY:Family Worship
DESCRIPTION:
URL:https://penworthamurc.org.uk/event/family-worship-56/
LOCATION:PURC
CATEGORIES:Church Activities
END:VEVENT
BEGIN:VEVENT
DTSTART;VALUE=DATE:20250614
DTEND;VALUE=DATE:20250615
DTSTAMP:20260419T214457
CREATED:20250528T185600Z
LAST-MODIFIED:20250528T185752Z
UID:8829-1749859200-1749945599@penworthamurc.org.uk
SUMMARY:Penwortham Gala - Hurst Grange Park with Procession 14&15 June 2025
DESCRIPTION:For details see Penwortham Town Council website
URL:https://penworthamurc.org.uk/event/penwortham-gala-hurst-grange-park-with-procession-1415-june-2025/
LOCATION:PURC
CATEGORIES:Church Activities,Community Activities,Special Services
END:VEVENT
BEGIN:VEVENT
DTSTART;TZID=Europe/London:20250615T110000
DTEND;TZID=Europe/London:20250615T120000
DTSTAMP:20260419T214457
CREATED:20250425T142831Z
LAST-MODIFIED:20250528T184133Z
UID:8772-1749985200-1749988800@penworthamurc.org.uk
SUMMARY:Ecumenical Service at the Penwortham Gala - Hurst Grange Park
DESCRIPTION:Penwortham Gala Service  – Circa 11.00 am \nIf raining the service will be held at Penwortham United Reformed Church. Liverpool Road at 11.00am .
URL:https://penworthamurc.org.uk/event/ecumenical-service-at-the-penwortham-gala-hurst-grange-park-2/
LOCATION:PURC
CATEGORIES:Church Activities,Community Activities,Special Services
END:VEVENT
BEGIN:VEVENT
DTSTART;TZID=Europe/London:20250621T103000
DTEND;TZID=Europe/London:20250621T123000
DTSTAMP:20260419T214457
CREATED:20250425T144804Z
LAST-MODIFIED:20250425T145021Z
UID:8782-1750501800-1750509000@penworthamurc.org.uk
SUMMARY:Penwortham Bead Group 10:30 - 12:30 on 3rd Saturday of each month
DESCRIPTION:Led by Esther Turner   07855143050\, meets 3rd Saturday of each month\n£5.00 per session in Church Hall attached to the Church \nCome and see what we are about. Have a chat\, a laugh and get help on your project if needed. Have a coffee/tea and cake. Bring your own cup. The more the merrier. Looking forward to seeing you
URL:https://penworthamurc.org.uk/event/penwortham-bead-group-1030-1230-on-3rd-saturday-of-each-month-19/
CATEGORIES:Community Activities
END:VEVENT
BEGIN:VEVENT
DTSTART;TZID=Europe/London:20250622T103000
DTEND;TZID=Europe/London:20250622T113000
DTSTAMP:20260419T214457
CREATED:20250425T142404Z
LAST-MODIFIED:20250425T142654Z
UID:8767-1750588200-1750591800@penworthamurc.org.uk
SUMMARY:Family Worship
DESCRIPTION:Led by  Steven Mitchell \n 
URL:https://penworthamurc.org.uk/event/family-worship-57/
LOCATION:PURC
CATEGORIES:Church Activities
END:VEVENT
BEGIN:VEVENT
DTSTART;TZID=Europe/London:20250625T190000
DTEND;TZID=Europe/London:20250625T201500
DTSTAMP:20260419T214457
CREATED:20250530T124126Z
LAST-MODIFIED:20250530T124250Z
UID:8891-1750878000-1750882500@penworthamurc.org.uk
SUMMARY:PURC -  Community Choir
DESCRIPTION:Penwortham URC – Community Choir on Wednesday 25th June June 7:00-8:15 pm. Click on Event Title above and then the Poster Icon that appears for details. \n 
URL:https://penworthamurc.org.uk/event/purc-community-choir-2/
CATEGORIES:Church Activities,Community Activities
END:VEVENT
BEGIN:VEVENT
DTSTART;TZID=Europe/London:20250629T103000
DTEND;TZID=Europe/London:20250629T113000
DTSTAMP:20260419T214457
CREATED:20250425T143733Z
LAST-MODIFIED:20250425T143816Z
UID:8778-1751193000-1751196600@penworthamurc.org.uk
SUMMARY:Family Worship - Junior Church Anniversary
DESCRIPTION:Led by  Junior Church
URL:https://penworthamurc.org.uk/event/family-worship-junior-church-anniversary-3/
LOCATION:PURC
CATEGORIES:Church Activities,Special Services
END:VEVENT
BEGIN:VEVENT
DTSTART;TZID=Europe/London:20250630T140000
DTEND;TZID=Europe/London:20250630T160000
DTSTAMP:20260419T214457
CREATED:20250528T182614Z
LAST-MODIFIED:20250606T133350Z
UID:8810-1751292000-1751299200@penworthamurc.org.uk
SUMMARY:Community Social Afternoon
DESCRIPTION:A Talk by Frank Vigon on “The Strange Birth of British TV” . Click the Event Title above and then the Poster Icon that appears for more information\nNote that the Topic subject matter has changed from that originally published. Followed by Refreshments\nCost £4.00. Do come along and bring a friend. All Welcome \n 
URL:https://penworthamurc.org.uk/event/community-social-afternoon-7/
CATEGORIES:Church Activities,Community Activities
END:VEVENT
END:VCALENDAR