BEGIN:VCALENDAR
VERSION:2.0
PRODID:-//Penwortham United Reformed Church - ECPv6.15.20//NONSGML v1.0//EN
CALSCALE:GREGORIAN
METHOD:PUBLISH
X-ORIGINAL-URL:https://penworthamurc.org.uk
X-WR-CALDESC:Events for Penwortham United Reformed Church
REFRESH-INTERVAL;VALUE=DURATION:PT1H
X-Robots-Tag:noindex
X-PUBLISHED-TTL:PT1H
BEGIN:VTIMEZONE
TZID:Europe/London
BEGIN:DAYLIGHT
TZOFFSETFROM:+0000
TZOFFSETTO:+0100
TZNAME:BST
DTSTART:20240331T010000
END:DAYLIGHT
BEGIN:STANDARD
TZOFFSETFROM:+0100
TZOFFSETTO:+0000
TZNAME:GMT
DTSTART:20241027T010000
END:STANDARD
BEGIN:DAYLIGHT
TZOFFSETFROM:+0000
TZOFFSETTO:+0100
TZNAME:BST
DTSTART:20250330T010000
END:DAYLIGHT
BEGIN:STANDARD
TZOFFSETFROM:+0100
TZOFFSETTO:+0000
TZNAME:GMT
DTSTART:20251026T010000
END:STANDARD
BEGIN:DAYLIGHT
TZOFFSETFROM:+0000
TZOFFSETTO:+0100
TZNAME:BST
DTSTART:20260329T010000
END:DAYLIGHT
BEGIN:STANDARD
TZOFFSETFROM:+0100
TZOFFSETTO:+0000
TZNAME:GMT
DTSTART:20261025T010000
END:STANDARD
END:VTIMEZONE
BEGIN:VEVENT
DTSTART;TZID=Europe/London:20250302T103000
DTEND;TZID=Europe/London:20250302T113000
DTSTAMP:20260419T201627
CREATED:20250129T160100Z
LAST-MODIFIED:20250129T160422Z
UID:8642-1740911400-1740915000@penworthamurc.org.uk
SUMMARY:Family Worship with the Sacrament of Holy Communion
DESCRIPTION:Led by Rev’d Daleen ten Cate \nFollowed by refreshments \n 
URL:https://penworthamurc.org.uk/event/family-worship-with-the-sacrament-of-holy-communion-22/
LOCATION:PURC
CATEGORIES:Church Activities,Special Services
END:VEVENT
BEGIN:VEVENT
DTSTART;TZID=Europe/London:20250309T103000
DTEND;TZID=Europe/London:20250309T113000
DTSTAMP:20260419T201627
CREATED:20250129T160451Z
LAST-MODIFIED:20250129T160854Z
UID:8646-1741516200-1741519800@penworthamurc.org.uk
SUMMARY:Family Worship and Parade Service with 5th Penwortham Scout Group
DESCRIPTION:Led by Beverley Strange
URL:https://penworthamurc.org.uk/event/family-worship-and-parade-service-with-5th-penwortham-scout-group-9/
LOCATION:PURC
CATEGORIES:Church Activities,Community Activities,Special Services
END:VEVENT
BEGIN:VEVENT
DTSTART;TZID=Europe/London:20250315T103000
DTEND;TZID=Europe/London:20250315T123000
DTSTAMP:20260419T201627
CREATED:20250129T161752Z
LAST-MODIFIED:20250129T162045Z
UID:8661-1742034600-1742041800@penworthamurc.org.uk
SUMMARY:Penwortham Bead Group 10:30 - 12:30 on 3rd Saturday of each month
DESCRIPTION:Led by Esther Turner   07855143050\, meets 3rd Saturday of each month\n£5.00 per session in Church Hall attached to the Church \nCome and see what we are about. Have a chat\, a laugh and get help on your project if needed. Have a coffee/tea and cake. Bring your own cup. The more the merrier. Looking forward to seeing you
URL:https://penworthamurc.org.uk/event/penwortham-bead-group-1030-1230-on-3rd-saturday-of-each-month-16/
CATEGORIES:Community Activities
END:VEVENT
BEGIN:VEVENT
DTSTART;TZID=Europe/London:20250316T103000
DTEND;TZID=Europe/London:20250316T113000
DTSTAMP:20260419T201627
CREATED:20250129T160942Z
LAST-MODIFIED:20250129T161312Z
UID:8651-1742121000-1742124600@penworthamurc.org.uk
SUMMARY:Family Worship
DESCRIPTION:Led by  Rev’d Frank Kendall \nFollowed by refreshments
URL:https://penworthamurc.org.uk/event/family-worship-49/
LOCATION:PURC
CATEGORIES:Church Activities
END:VEVENT
BEGIN:VEVENT
DTSTART;TZID=Europe/London:20250318T100000
DTEND;TZID=Europe/London:20250318T120000
DTSTAMP:20260419T201627
CREATED:20250328T164033Z
LAST-MODIFIED:20250402T113033Z
UID:8719-1742292000-1742299200@penworthamurc.org.uk
SUMMARY:Good Friday Ecumenical Walk of Witness and Act of Worship
DESCRIPTION:This years Churches Together in Penwortham – Ecumenical Good Friday Walk of Witness and Act of Worship will be held at Kingsfold Methodist Church\, Penwortham with the Walk of Witness from 10.00am and the Act of Worship at 11.00am on 18th April 2025
URL:https://penworthamurc.org.uk/event/good-friday-ecumenical-walk-of-witness-and-act-of-worship-3/
CATEGORIES:Church Activities,Community Activities,Special Services
END:VEVENT
BEGIN:VEVENT
DTSTART;TZID=Europe/London:20250323T103000
DTEND;TZID=Europe/London:20250323T113000
DTSTAMP:20260419T201627
CREATED:20250129T160948Z
LAST-MODIFIED:20250129T161457Z
UID:8652-1742725800-1742729400@penworthamurc.org.uk
SUMMARY:Family Worship
DESCRIPTION:Led by  Rev’d Brian Drury
URL:https://penworthamurc.org.uk/event/family-worship-50/
LOCATION:PURC
CATEGORIES:Church Activities
END:VEVENT
BEGIN:VEVENT
DTSTART;TZID=Europe/London:20250330T103000
DTEND;TZID=Europe/London:20250330T113000
DTSTAMP:20260419T201627
CREATED:20250129T160955Z
LAST-MODIFIED:20250129T161552Z
UID:8653-1743330600-1743334200@penworthamurc.org.uk
SUMMARY:Family Worship
DESCRIPTION:Led by  Alan Edward
URL:https://penworthamurc.org.uk/event/family-worship-51/
LOCATION:PURC
CATEGORIES:Church Activities
END:VEVENT
BEGIN:VEVENT
DTSTART;TZID=Europe/London:20250331T140000
DTEND;TZID=Europe/London:20250331T160000
DTSTAMP:20260419T201627
CREATED:20250129T162201Z
LAST-MODIFIED:20250129T162611Z
UID:8666-1743429600-1743436800@penworthamurc.org.uk
SUMMARY:Community Social Afternoon
DESCRIPTION:A talk by Brian Topping\, a former customs officer\, on A world of Mules and Minders  . \nFollowed by Refreshments  Cost £4.00. Do come along and bring a friend. \n 
URL:https://penworthamurc.org.uk/event/community-social-afternoon-4/
CATEGORIES:Church Activities,Community Activities
END:VEVENT
END:VCALENDAR