BEGIN:VCALENDAR
VERSION:2.0
PRODID:-//Penwortham United Reformed Church - ECPv6.15.20//NONSGML v1.0//EN
CALSCALE:GREGORIAN
METHOD:PUBLISH
X-WR-CALNAME:Penwortham United Reformed Church
X-ORIGINAL-URL:https://penworthamurc.org.uk
X-WR-CALDESC:Events for Penwortham United Reformed Church
REFRESH-INTERVAL;VALUE=DURATION:PT1H
X-Robots-Tag:noindex
X-PUBLISHED-TTL:PT1H
BEGIN:VTIMEZONE
TZID:Europe/London
BEGIN:DAYLIGHT
TZOFFSETFROM:+0000
TZOFFSETTO:+0100
TZNAME:BST
DTSTART:20230326T010000
END:DAYLIGHT
BEGIN:STANDARD
TZOFFSETFROM:+0100
TZOFFSETTO:+0000
TZNAME:GMT
DTSTART:20231029T010000
END:STANDARD
BEGIN:DAYLIGHT
TZOFFSETFROM:+0000
TZOFFSETTO:+0100
TZNAME:BST
DTSTART:20240331T010000
END:DAYLIGHT
BEGIN:STANDARD
TZOFFSETFROM:+0100
TZOFFSETTO:+0000
TZNAME:GMT
DTSTART:20241027T010000
END:STANDARD
BEGIN:DAYLIGHT
TZOFFSETFROM:+0000
TZOFFSETTO:+0100
TZNAME:BST
DTSTART:20250330T010000
END:DAYLIGHT
BEGIN:STANDARD
TZOFFSETFROM:+0100
TZOFFSETTO:+0000
TZNAME:GMT
DTSTART:20251026T010000
END:STANDARD
END:VTIMEZONE
BEGIN:VEVENT
DTSTART;TZID=Europe/London:20241103T103000
DTEND;TZID=Europe/London:20241103T113000
DTSTAMP:20260422T161958
CREATED:20240925T093722Z
LAST-MODIFIED:20240925T093908Z
UID:8349-1730629800-1730633400@penworthamurc.org.uk
SUMMARY:Family Worship with the Sacrament of Holy Communion
DESCRIPTION:Led by Margery Pitcher \n 
URL:https://penworthamurc.org.uk/event/family-worship-with-the-sacrament-of-holy-communion-18/
LOCATION:PURC
CATEGORIES:Church Activities,Special Services
END:VEVENT
BEGIN:VEVENT
DTSTART;TZID=Europe/London:20241110T103000
DTEND;TZID=Europe/London:20241110T113000
DTSTAMP:20260422T161958
CREATED:20240925T093945Z
LAST-MODIFIED:20240925T094048Z
UID:8352-1731234600-1731238200@penworthamurc.org.uk
SUMMARY:Remembrance Sunday Family Worship
DESCRIPTION:Led by Jennifer Liddell
URL:https://penworthamurc.org.uk/event/remembrance-sunday-family-worship-2/
LOCATION:PURC
CATEGORIES:Church Activities,Community Activities,Special Services
END:VEVENT
BEGIN:VEVENT
DTSTART;TZID=Europe/London:20241116T103000
DTEND;TZID=Europe/London:20241116T123000
DTSTAMP:20260422T161958
CREATED:20240925T094504Z
LAST-MODIFIED:20250129T161825Z
UID:8358-1731753000-1731760200@penworthamurc.org.uk
SUMMARY:Penwortham Bead Group 10:30 - 12:30 on 3rd Saturday of each month
DESCRIPTION:Led by Esther Turner   07855143050\, meets 3rd Saturday of each month\n£5.00 per session in Church Hall attached to the Church \nCome and see what we are about. Have a chat\, a laugh and get help on your project if needed. Have a coffee/tea and cake. Bring your own cup. The more the merrier. Looking forward to seeing you
URL:https://penworthamurc.org.uk/event/penwortham-bead-group-1030-1230-on-3rd-saturday-of-each-month-14-copy/
CATEGORIES:Community Activities
END:VEVENT
BEGIN:VEVENT
DTSTART;TZID=Europe/London:20241117T103000
DTEND;TZID=Europe/London:20241117T113000
DTSTAMP:20260422T161958
CREATED:20240925T094102Z
LAST-MODIFIED:20240925T094153Z
UID:8354-1731839400-1731843000@penworthamurc.org.uk
SUMMARY:Family Worship
DESCRIPTION:Led by  George Grime
URL:https://penworthamurc.org.uk/event/family-worship-42/
LOCATION:PURC
CATEGORIES:Church Activities
END:VEVENT
BEGIN:VEVENT
DTSTART;TZID=Europe/London:20241124T103000
DTEND;TZID=Europe/London:20241124T113000
DTSTAMP:20260422T161958
CREATED:20240925T094205Z
LAST-MODIFIED:20240925T094352Z
UID:8356-1732444200-1732447800@penworthamurc.org.uk
SUMMARY:Family Worship
DESCRIPTION:Led by  Rev’d Frank Kendall
URL:https://penworthamurc.org.uk/event/family-worship-43/
LOCATION:PURC
CATEGORIES:Church Activities
END:VEVENT
BEGIN:VEVENT
DTSTART;TZID=Europe/London:20241125T140000
DTEND;TZID=Europe/London:20241125T160000
DTSTAMP:20260422T161958
CREATED:20241004T153205Z
LAST-MODIFIED:20241004T154214Z
UID:8378-1732543200-1732550400@penworthamurc.org.uk
SUMMARY:Community Social Afternoon
DESCRIPTION:An afternoon of Musical Entertainment with the Strummers and Warblers Ukelele Band. \nFollowed by Refreshments  Cost £4.00. Do come along and bring a friend. \n 
URL:https://penworthamurc.org.uk/event/community-social-afternoon-2/
CATEGORIES:Church Activities,Community Activities
END:VEVENT
END:VCALENDAR