BEGIN:VCALENDAR
VERSION:2.0
PRODID:-//Penwortham United Reformed Church - ECPv6.15.20//NONSGML v1.0//EN
CALSCALE:GREGORIAN
METHOD:PUBLISH
X-WR-CALNAME:Penwortham United Reformed Church
X-ORIGINAL-URL:https://penworthamurc.org.uk
X-WR-CALDESC:Events for Penwortham United Reformed Church
REFRESH-INTERVAL;VALUE=DURATION:PT1H
X-Robots-Tag:noindex
X-PUBLISHED-TTL:PT1H
BEGIN:VTIMEZONE
TZID:Europe/London
BEGIN:DAYLIGHT
TZOFFSETFROM:+0000
TZOFFSETTO:+0100
TZNAME:BST
DTSTART:20230326T010000
END:DAYLIGHT
BEGIN:STANDARD
TZOFFSETFROM:+0100
TZOFFSETTO:+0000
TZNAME:GMT
DTSTART:20231029T010000
END:STANDARD
BEGIN:DAYLIGHT
TZOFFSETFROM:+0000
TZOFFSETTO:+0100
TZNAME:BST
DTSTART:20240331T010000
END:DAYLIGHT
BEGIN:STANDARD
TZOFFSETFROM:+0100
TZOFFSETTO:+0000
TZNAME:GMT
DTSTART:20241027T010000
END:STANDARD
BEGIN:DAYLIGHT
TZOFFSETFROM:+0000
TZOFFSETTO:+0100
TZNAME:BST
DTSTART:20250330T010000
END:DAYLIGHT
BEGIN:STANDARD
TZOFFSETFROM:+0100
TZOFFSETTO:+0000
TZNAME:GMT
DTSTART:20251026T010000
END:STANDARD
END:VTIMEZONE
BEGIN:VEVENT
DTSTART;TZID=Europe/London:20240505T103000
DTEND;TZID=Europe/London:20240505T113000
DTSTAMP:20260423T114113
CREATED:20240328T134436Z
LAST-MODIFIED:20240328T134925Z
UID:8114-1714905000-1714908600@penworthamurc.org.uk
SUMMARY:Family Worship with the Sacrament of Holy Communion
DESCRIPTION:Led by Rev’d Anton Muller (provisionally)
URL:https://penworthamurc.org.uk/event/family-worship-with-the-sacrament-of-holy-communion-12/
LOCATION:PURC
CATEGORIES:Church Activities,Special Services
END:VEVENT
BEGIN:VEVENT
DTSTART;TZID=Europe/London:20240512T103000
DTEND;TZID=Europe/London:20240512T113000
DTSTAMP:20260423T114113
CREATED:20240328T134700Z
LAST-MODIFIED:20240328T134826Z
UID:8116-1715509800-1715513400@penworthamurc.org.uk
SUMMARY:Family Worship and Parade Service with 5th Penwortham Scout Group
DESCRIPTION:Led by Robert Bulloch and Gillian Price
URL:https://penworthamurc.org.uk/event/family-worship-and-parade-service-with-5th-penwortham-scout-group-4/
LOCATION:PURC
CATEGORIES:Church Activities,Community Activities,Special Services
END:VEVENT
BEGIN:VEVENT
DTSTART;TZID=Europe/London:20240513T140000
DTEND;TZID=Europe/London:20240513T160000
DTSTAMP:20260423T114113
CREATED:20240414T084219Z
LAST-MODIFIED:20240414T084524Z
UID:8150-1715608800-1715616000@penworthamurc.org.uk
SUMMARY:Community Social Event - All Welcome
DESCRIPTION:On Monday 13 May 2024 at 2.00pm our next Community Event will be held when we welcome Steve Williams with  a talk titled Shifting Sands focusing on the history and changes around Morecambe Bay.
URL:https://penworthamurc.org.uk/event/community-social-event-all-welcome-8/
CATEGORIES:Church Activities,Community Activities
END:VEVENT
BEGIN:VEVENT
DTSTART;TZID=Europe/London:20240518T103000
DTEND;TZID=Europe/London:20240518T123000
DTSTAMP:20260423T114113
CREATED:20240328T135230Z
LAST-MODIFIED:20240328T135336Z
UID:8123-1716028200-1716035400@penworthamurc.org.uk
SUMMARY:Penwortham Bead Group 10:30 - 12:30 on 3rd Saturday of each month
DESCRIPTION:Led by Esther Turner   07855143050\, meets 3rd Saturday of each month\n£5.00 per session in Church Hall attached to the Church \nCome and see what we are about. Have a chat\, a laugh and get help on your project if needed. Have a coffee/tea and cake. Bring your own cup. The more the merrier. Looking forward to seeing you
URL:https://penworthamurc.org.uk/event/penwortham-bead-group-1030-1230-on-3rd-saturday-of-each-month-11/
CATEGORIES:Community Activities
END:VEVENT
BEGIN:VEVENT
DTSTART;TZID=Europe/London:20240519T103000
DTEND;TZID=Europe/London:20240519T113000
DTSTAMP:20260423T114113
CREATED:20240328T135014Z
LAST-MODIFIED:20240328T135103Z
UID:8119-1716114600-1716118200@penworthamurc.org.uk
SUMMARY:Family Worship for Pentecost
DESCRIPTION:Led by  Steven Mitchell
URL:https://penworthamurc.org.uk/event/family-worship-for-pentecost/
LOCATION:PURC
CATEGORIES:Church Activities
END:VEVENT
BEGIN:VEVENT
DTSTART;TZID=Europe/London:20240526T103000
DTEND;TZID=Europe/London:20240526T113000
DTSTAMP:20260423T114113
CREATED:20240328T135127Z
LAST-MODIFIED:20240328T135207Z
UID:8121-1716719400-1716723000@penworthamurc.org.uk
SUMMARY:Family Worship
DESCRIPTION:Led by  Carol & Henry Rose
URL:https://penworthamurc.org.uk/event/family-worship-31/
LOCATION:PURC
CATEGORIES:Church Activities
END:VEVENT
END:VCALENDAR