BEGIN:VCALENDAR
VERSION:2.0
PRODID:-//Penwortham United Reformed Church - ECPv6.15.20//NONSGML v1.0//EN
CALSCALE:GREGORIAN
METHOD:PUBLISH
X-WR-CALNAME:Penwortham United Reformed Church
X-ORIGINAL-URL:https://penworthamurc.org.uk
X-WR-CALDESC:Events for Penwortham United Reformed Church
REFRESH-INTERVAL;VALUE=DURATION:PT1H
X-Robots-Tag:noindex
X-PUBLISHED-TTL:PT1H
BEGIN:VTIMEZONE
TZID:Europe/London
BEGIN:DAYLIGHT
TZOFFSETFROM:+0000
TZOFFSETTO:+0100
TZNAME:BST
DTSTART:20230326T010000
END:DAYLIGHT
BEGIN:STANDARD
TZOFFSETFROM:+0100
TZOFFSETTO:+0000
TZNAME:GMT
DTSTART:20231029T010000
END:STANDARD
BEGIN:DAYLIGHT
TZOFFSETFROM:+0000
TZOFFSETTO:+0100
TZNAME:BST
DTSTART:20240331T010000
END:DAYLIGHT
BEGIN:STANDARD
TZOFFSETFROM:+0100
TZOFFSETTO:+0000
TZNAME:GMT
DTSTART:20241027T010000
END:STANDARD
BEGIN:DAYLIGHT
TZOFFSETFROM:+0000
TZOFFSETTO:+0100
TZNAME:BST
DTSTART:20250330T010000
END:DAYLIGHT
BEGIN:STANDARD
TZOFFSETFROM:+0100
TZOFFSETTO:+0000
TZNAME:GMT
DTSTART:20251026T010000
END:STANDARD
END:VTIMEZONE
BEGIN:VEVENT
DTSTART;TZID=Europe/London:20240914T103000
DTEND;TZID=Europe/London:20240914T123000
DTSTAMP:20260420T080139
CREATED:20240828T143858Z
LAST-MODIFIED:20240828T144553Z
UID:8318-1726309800-1726317000@penworthamurc.org.uk
SUMMARY:Penwortham Bead Group 10:30 - 12:30 on 3rd Saturday of each month
DESCRIPTION:Led by Esther Turner   07855143050\, meets 3rd Saturday of each month\n£5.00 per session in Church Hall attached to the Church \nCome and see what we are about. Have a chat\, a laugh and get help on your project if needed. Have a coffee/tea and cake. Bring your own cup. The more the merrier. Looking forward to seeing you
URL:https://penworthamurc.org.uk/event/penwortham-bead-group-1030-1230-on-3rd-saturday-of-each-month-13/
CATEGORIES:Community Activities
END:VEVENT
BEGIN:VEVENT
DTSTART;TZID=Europe/London:20240908T103000
DTEND;TZID=Europe/London:20240908T113000
DTSTAMP:20260420T080139
CREATED:20240703T082518Z
LAST-MODIFIED:20240703T082705Z
UID:8265-1725791400-1725795000@penworthamurc.org.uk
SUMMARY:Family Worship and Parade Service with 5th Penwortham Scout Group
DESCRIPTION:Led by Rev’d Brian Drury
URL:https://penworthamurc.org.uk/event/family-worship-and-parade-service-with-5th-penwortham-scout-group-6/
LOCATION:PURC
CATEGORIES:Church Activities,Community Activities,Special Services
END:VEVENT
BEGIN:VEVENT
DTSTART;TZID=Europe/London:20240901T120000
DTEND;TZID=Europe/London:20240901T140000
DTSTAMP:20260420T080139
CREATED:20240703T084037Z
LAST-MODIFIED:20240703T090012Z
UID:8277-1725192000-1725199200@penworthamurc.org.uk
SUMMARY:95th Anniversary Lunch
DESCRIPTION:To celebrate the 95th Anniversary of the opening of our present church building we are to hold a lunch following morning worship. Everyone is welcome.  Look out for a list to be placed on the Foyer Notice Board for you to add you name and make your menu choices before 25th August.
URL:https://penworthamurc.org.uk/event/95th-anniversary-lunch/
LOCATION:PURC
CATEGORIES:Church Activities
END:VEVENT
BEGIN:VEVENT
DTSTART;TZID=Europe/London:20240901T103000
DTEND;TZID=Europe/London:20240901T113000
DTSTAMP:20260420T080139
CREATED:20240703T082257Z
LAST-MODIFIED:20240703T082420Z
UID:8263-1725186600-1725190200@penworthamurc.org.uk
SUMMARY:Family Worship with the Sacrament of Holy Communion
DESCRIPTION:Led by Gill Turner
URL:https://penworthamurc.org.uk/event/family-worship-with-the-sacrament-of-holy-communion-16/
LOCATION:PURC
CATEGORIES:Church Activities,Special Services
END:VEVENT
BEGIN:VEVENT
DTSTART;TZID=Europe/London:20240825T103000
DTEND;TZID=Europe/London:20240825T113000
DTSTAMP:20260420T080139
CREATED:20240703T083109Z
LAST-MODIFIED:20240822T130517Z
UID:8273-1724581800-1724585400@penworthamurc.org.uk
SUMMARY:Family Worship
DESCRIPTION:Led by  Robert Bulloch & Gillian Price
URL:https://penworthamurc.org.uk/event/family-worship-37/
LOCATION:PURC
CATEGORIES:Church Activities
END:VEVENT
BEGIN:VEVENT
DTSTART;TZID=Europe/London:20240818T103000
DTEND;TZID=Europe/London:20240818T113000
DTSTAMP:20260420T080139
CREATED:20240703T082959Z
LAST-MODIFIED:20240703T083056Z
UID:8270-1723977000-1723980600@penworthamurc.org.uk
SUMMARY:Family Worship
DESCRIPTION:Led by  Alan Edward
URL:https://penworthamurc.org.uk/event/family-worship-copy/
LOCATION:PURC
CATEGORIES:Church Activities
END:VEVENT
BEGIN:VEVENT
DTSTART;TZID=Europe/London:20240811T103000
DTEND;TZID=Europe/London:20240811T113000
DTSTAMP:20260420T080139
CREATED:20240703T082852Z
LAST-MODIFIED:20240804T140645Z
UID:8268-1723372200-1723375800@penworthamurc.org.uk
SUMMARY:Family Worship
DESCRIPTION:Led by Gill Turner
URL:https://penworthamurc.org.uk/event/family-worship-36/
LOCATION:PURC
CATEGORIES:Church Activities
END:VEVENT
BEGIN:VEVENT
DTSTART;TZID=Europe/London:20240804T103000
DTEND;TZID=Europe/London:20240804T113000
DTSTAMP:20260420T080139
CREATED:20240703T082115Z
LAST-MODIFIED:20240703T082248Z
UID:8261-1722767400-1722771000@penworthamurc.org.uk
SUMMARY:Family Worship with the Sacrament of Holy Communion
DESCRIPTION:Led by Rev’d Brian Drury
URL:https://penworthamurc.org.uk/event/family-worship-with-the-sacrament-of-holy-communion-15/
LOCATION:PURC
CATEGORIES:Church Activities,Special Services
END:VEVENT
BEGIN:VEVENT
DTSTART;TZID=Europe/London:20240728T103000
DTEND;TZID=Europe/London:20240728T113000
DTSTAMP:20260420T080139
CREATED:20240528T081407Z
LAST-MODIFIED:20240707T084922Z
UID:8225-1722162600-1722166200@penworthamurc.org.uk
SUMMARY:Baptism Service & Family Worship
DESCRIPTION:Led by the Elders & Alan Edward
URL:https://penworthamurc.org.uk/event/family-worship-35/
LOCATION:PURC
CATEGORIES:Church Activities,Special Services
END:VEVENT
BEGIN:VEVENT
DTSTART;TZID=Europe/London:20240721T103000
DTEND;TZID=Europe/London:20240721T113000
DTSTAMP:20260420T080139
CREATED:20240528T081255Z
LAST-MODIFIED:20240528T081351Z
UID:8223-1721557800-1721561400@penworthamurc.org.uk
SUMMARY:Family Worship
DESCRIPTION:Led by  Margery Pitcher
URL:https://penworthamurc.org.uk/event/family-worship-34/
LOCATION:PURC
CATEGORIES:Church Activities
END:VEVENT
BEGIN:VEVENT
DTSTART;TZID=Europe/London:20240720T103000
DTEND;TZID=Europe/London:20240720T123000
DTSTAMP:20260420T080139
CREATED:20240504T133550Z
LAST-MODIFIED:20240528T081957Z
UID:8165-1721471400-1721478600@penworthamurc.org.uk
SUMMARY:Penwortham Bead Group 10:30 - 12:30 on 3rd Saturday of each month
DESCRIPTION:Led by Esther Turner   07855143050\, meets 3rd Saturday of each month\n£5.00 per session in Church Hall attached to the Church \nCome and see what we are about. Have a chat\, a laugh and get help on your project if needed. Have a coffee/tea and cake. Bring your own cup. The more the merrier. Looking forward to seeing you
URL:https://penworthamurc.org.uk/event/penwortham-bead-group-1030-1230-on-3rd-saturday-of-each-month-12/
CATEGORIES:Community Activities
END:VEVENT
BEGIN:VEVENT
DTSTART;TZID=Europe/London:20240714T103000
DTEND;TZID=Europe/London:20240714T113000
DTSTAMP:20260420T080139
CREATED:20240528T081130Z
LAST-MODIFIED:20240703T082751Z
UID:8221-1720953000-1720956600@penworthamurc.org.uk
SUMMARY:Family Worship and Parade Service with 5th Penwortham Scout Group
DESCRIPTION:Led by Robert Bulloch and Gillian Price
URL:https://penworthamurc.org.uk/event/family-worship-and-parade-service-with-5th-penwortham-scout-group-5/
LOCATION:PURC
CATEGORIES:Church Activities,Community Activities,Special Services
END:VEVENT
BEGIN:VEVENT
DTSTART;TZID=Europe/London:20240707T150000
DTEND;TZID=Europe/London:20240707T160000
DTSTAMP:20260420T080139
CREATED:20240528T080925Z
LAST-MODIFIED:20240528T081815Z
UID:8219-1720364400-1720368000@penworthamurc.org.uk
SUMMARY:Family Worship with the Sacrament of Holy Communion
DESCRIPTION:Led by Rev’d Martin Whiffen \nNote PM Service Time
URL:https://penworthamurc.org.uk/event/family-worship-with-the-sacrament-of-holy-communion-14/
LOCATION:PURC
CATEGORIES:Church Activities,Special Services
END:VEVENT
BEGIN:VEVENT
DTSTART;TZID=Europe/London:20240630T103000
DTEND;TZID=Europe/London:20240630T113000
DTSTAMP:20260420T080139
CREATED:20240504T133124Z
LAST-MODIFIED:20240528T071954Z
UID:8160-1719743400-1719747000@penworthamurc.org.uk
SUMMARY:Family Worship
DESCRIPTION:Led by  Alan Edward (Changed to Jun 30 from June 23)
URL:https://penworthamurc.org.uk/event/family-worship-33/
LOCATION:PURC
CATEGORIES:Church Activities
END:VEVENT
BEGIN:VEVENT
DTSTART;TZID=Europe/London:20240624T140000
DTEND;TZID=Europe/London:20240624T160000
DTSTAMP:20260420T080139
CREATED:20240514T213209Z
LAST-MODIFIED:20240514T213737Z
UID:8202-1719237600-1719244800@penworthamurc.org.uk
SUMMARY:Community Social Event - All Welcome
DESCRIPTION:On Monday 24 June 2024 at 2.00pm our next Community Event will be held\, when we welcome Peter Frankish\, a volunteer at St. Catherine’s Hospice with a presentation on their “In The Frame” project.  Cost £4.00 per person with refreshments.
URL:https://penworthamurc.org.uk/event/community-social-event-all-welcome-9/
CATEGORIES:Church Activities,Community Activities
END:VEVENT
BEGIN:VEVENT
DTSTART;TZID=Europe/London:20240623T103000
DTEND;TZID=Europe/London:20240623T113000
DTSTAMP:20260420T080139
CREATED:20240504T133118Z
LAST-MODIFIED:20240521T185704Z
UID:8159-1719138600-1719142200@penworthamurc.org.uk
SUMMARY:Family Worship - Junior Church Anniversary
DESCRIPTION:Led by  Junior Church (changed from Jun 30 to Jun 23 )
URL:https://penworthamurc.org.uk/event/family-worship-junior-church-anniversary-2/
LOCATION:PURC
CATEGORIES:Church Activities,Special Services
END:VEVENT
BEGIN:VEVENT
DTSTART;TZID=Europe/London:20240616T103000
DTEND;TZID=Europe/London:20240616T113000
DTSTAMP:20260420T080139
CREATED:20240504T133133Z
LAST-MODIFIED:20240504T133221Z
UID:8161-1718533800-1718537400@penworthamurc.org.uk
SUMMARY:Family Worship
DESCRIPTION:Led by  Rev’d Frank Kendall
URL:https://penworthamurc.org.uk/event/family-worship-32/
LOCATION:PURC
CATEGORIES:Church Activities
END:VEVENT
BEGIN:VEVENT
DTSTART;TZID=Europe/London:20240609T110000
DTEND;TZID=Europe/London:20240609T120000
DTSTAMP:20260420T080139
CREATED:20240504T132741Z
LAST-MODIFIED:20240528T080840Z
UID:8157-1717930800-1717934400@penworthamurc.org.uk
SUMMARY:Ecumenical Service at the Penwortham Gala - Hurst Grange Park
DESCRIPTION:If raining the service will be held at Penwortham United Reformed Church. Liverpool Road at 11.00am .
URL:https://penworthamurc.org.uk/event/ecumenical-service-at-the-penwortham-gala-hurst-grange-park/
LOCATION:PURC
CATEGORIES:Church Activities,Community Activities,Special Services
END:VEVENT
BEGIN:VEVENT
DTSTART;TZID=Europe/London:20240602T103000
DTEND;TZID=Europe/London:20240602T113000
DTSTAMP:20260420T080139
CREATED:20240504T132544Z
LAST-MODIFIED:20240504T132646Z
UID:8155-1717324200-1717327800@penworthamurc.org.uk
SUMMARY:Family Worship with the Sacrament of Holy Communion
DESCRIPTION:Led by Rev’d Daleen Ten Cate
URL:https://penworthamurc.org.uk/event/family-worship-with-the-sacrament-of-holy-communion-13/
LOCATION:PURC
CATEGORIES:Church Activities,Special Services
END:VEVENT
BEGIN:VEVENT
DTSTART;TZID=Europe/London:20240526T103000
DTEND;TZID=Europe/London:20240526T113000
DTSTAMP:20260420T080139
CREATED:20240328T135127Z
LAST-MODIFIED:20240328T135207Z
UID:8121-1716719400-1716723000@penworthamurc.org.uk
SUMMARY:Family Worship
DESCRIPTION:Led by  Carol & Henry Rose
URL:https://penworthamurc.org.uk/event/family-worship-31/
LOCATION:PURC
CATEGORIES:Church Activities
END:VEVENT
BEGIN:VEVENT
DTSTART;TZID=Europe/London:20240519T103000
DTEND;TZID=Europe/London:20240519T113000
DTSTAMP:20260420T080139
CREATED:20240328T135014Z
LAST-MODIFIED:20240328T135103Z
UID:8119-1716114600-1716118200@penworthamurc.org.uk
SUMMARY:Family Worship for Pentecost
DESCRIPTION:Led by  Steven Mitchell
URL:https://penworthamurc.org.uk/event/family-worship-for-pentecost/
LOCATION:PURC
CATEGORIES:Church Activities
END:VEVENT
BEGIN:VEVENT
DTSTART;TZID=Europe/London:20240518T103000
DTEND;TZID=Europe/London:20240518T123000
DTSTAMP:20260420T080139
CREATED:20240328T135230Z
LAST-MODIFIED:20240328T135336Z
UID:8123-1716028200-1716035400@penworthamurc.org.uk
SUMMARY:Penwortham Bead Group 10:30 - 12:30 on 3rd Saturday of each month
DESCRIPTION:Led by Esther Turner   07855143050\, meets 3rd Saturday of each month\n£5.00 per session in Church Hall attached to the Church \nCome and see what we are about. Have a chat\, a laugh and get help on your project if needed. Have a coffee/tea and cake. Bring your own cup. The more the merrier. Looking forward to seeing you
URL:https://penworthamurc.org.uk/event/penwortham-bead-group-1030-1230-on-3rd-saturday-of-each-month-11/
CATEGORIES:Community Activities
END:VEVENT
BEGIN:VEVENT
DTSTART;TZID=Europe/London:20240513T140000
DTEND;TZID=Europe/London:20240513T160000
DTSTAMP:20260420T080139
CREATED:20240414T084219Z
LAST-MODIFIED:20240414T084524Z
UID:8150-1715608800-1715616000@penworthamurc.org.uk
SUMMARY:Community Social Event - All Welcome
DESCRIPTION:On Monday 13 May 2024 at 2.00pm our next Community Event will be held when we welcome Steve Williams with  a talk titled Shifting Sands focusing on the history and changes around Morecambe Bay.
URL:https://penworthamurc.org.uk/event/community-social-event-all-welcome-8/
CATEGORIES:Church Activities,Community Activities
END:VEVENT
BEGIN:VEVENT
DTSTART;TZID=Europe/London:20240512T103000
DTEND;TZID=Europe/London:20240512T113000
DTSTAMP:20260420T080139
CREATED:20240328T134700Z
LAST-MODIFIED:20240328T134826Z
UID:8116-1715509800-1715513400@penworthamurc.org.uk
SUMMARY:Family Worship and Parade Service with 5th Penwortham Scout Group
DESCRIPTION:Led by Robert Bulloch and Gillian Price
URL:https://penworthamurc.org.uk/event/family-worship-and-parade-service-with-5th-penwortham-scout-group-4/
LOCATION:PURC
CATEGORIES:Church Activities,Community Activities,Special Services
END:VEVENT
BEGIN:VEVENT
DTSTART;TZID=Europe/London:20240505T103000
DTEND;TZID=Europe/London:20240505T113000
DTSTAMP:20260420T080139
CREATED:20240328T134436Z
LAST-MODIFIED:20240328T134925Z
UID:8114-1714905000-1714908600@penworthamurc.org.uk
SUMMARY:Family Worship with the Sacrament of Holy Communion
DESCRIPTION:Led by Rev’d Anton Muller (provisionally)
URL:https://penworthamurc.org.uk/event/family-worship-with-the-sacrament-of-holy-communion-12/
LOCATION:PURC
CATEGORIES:Church Activities,Special Services
END:VEVENT
BEGIN:VEVENT
DTSTART;TZID=Europe/London:20240429T140000
DTEND;TZID=Europe/London:20240429T160000
DTSTAMP:20260420T080139
CREATED:20240302T215440Z
LAST-MODIFIED:20240317T083331Z
UID:8084-1714399200-1714406400@penworthamurc.org.uk
SUMMARY:Community Social Event - All Welcome
DESCRIPTION:On Monday 29 April 2024 at 2.00pm our next Community Event will be held when we welcome Brian Topping with Tales of a Customs Officer at London Heathrow in the 1970s-80s. See our Home Page for the details
URL:https://penworthamurc.org.uk/event/community-social-event-all-welcome-7/
CATEGORIES:Church Activities,Community Activities
END:VEVENT
BEGIN:VEVENT
DTSTART;TZID=Europe/London:20240428T103000
DTEND;TZID=Europe/London:20240428T113000
DTSTAMP:20260420T080139
CREATED:20240302T215719Z
LAST-MODIFIED:20240302T215955Z
UID:8087-1714300200-1714303800@penworthamurc.org.uk
SUMMARY:Family Worship
DESCRIPTION:Led by  Margery Pitcher
URL:https://penworthamurc.org.uk/event/family-worship-30/
LOCATION:PURC
CATEGORIES:Church Activities
END:VEVENT
BEGIN:VEVENT
DTSTART;TZID=Europe/London:20240421T103000
DTEND;TZID=Europe/London:20240421T113000
DTSTAMP:20260420T080139
CREATED:20240302T215724Z
LAST-MODIFIED:20240302T215910Z
UID:8088-1713695400-1713699000@penworthamurc.org.uk
SUMMARY:Family Worship
DESCRIPTION:Led by  Linda McLanachan
URL:https://penworthamurc.org.uk/event/family-worship-29/
LOCATION:PURC
CATEGORIES:Church Activities
END:VEVENT
BEGIN:VEVENT
DTSTART;TZID=Europe/London:20240420T103000
DTEND;TZID=Europe/London:20240420T123000
DTSTAMP:20260420T080139
CREATED:20240302T214957Z
LAST-MODIFIED:20240302T215048Z
UID:8080-1713609000-1713616200@penworthamurc.org.uk
SUMMARY:Penwortham Bead Group 10:30 - 12:30 on 3rd Saturday of each month
DESCRIPTION:Led by Esther Turner   07855143050\, meets 3rd Saturday of each month\n£5.00 per session in Church Hall attached to the Church \nCome and see what we are about. Have a chat\, a laugh and get help on your project if needed. Have a coffee/tea and cake. Bring your own cup. The more the merrier. Looking forward to seeing you
URL:https://penworthamurc.org.uk/event/penwortham-bead-group-1030-1230-on-3rd-saturday-of-each-month-10/
CATEGORIES:Community Activities
END:VEVENT
BEGIN:VEVENT
DTSTART;TZID=Europe/London:20240414T103000
DTEND;TZID=Europe/London:20240414T113000
DTSTAMP:20260420T080139
CREATED:20240302T215732Z
LAST-MODIFIED:20240302T215815Z
UID:8089-1713090600-1713094200@penworthamurc.org.uk
SUMMARY:Family Worship
DESCRIPTION:Led by  Jim Wilson
URL:https://penworthamurc.org.uk/event/family-worship-28/
LOCATION:PURC
CATEGORIES:Church Activities
END:VEVENT
END:VCALENDAR