BEGIN:VCALENDAR
VERSION:2.0
PRODID:-//Penwortham United Reformed Church - ECPv6.15.20//NONSGML v1.0//EN
CALSCALE:GREGORIAN
METHOD:PUBLISH
X-WR-CALNAME:Penwortham United Reformed Church
X-ORIGINAL-URL:https://penworthamurc.org.uk
X-WR-CALDESC:Events for Penwortham United Reformed Church
REFRESH-INTERVAL;VALUE=DURATION:PT1H
X-Robots-Tag:noindex
X-PUBLISHED-TTL:PT1H
BEGIN:VTIMEZONE
TZID:Europe/London
BEGIN:DAYLIGHT
TZOFFSETFROM:+0000
TZOFFSETTO:+0100
TZNAME:BST
DTSTART:20230326T010000
END:DAYLIGHT
BEGIN:STANDARD
TZOFFSETFROM:+0100
TZOFFSETTO:+0000
TZNAME:GMT
DTSTART:20231029T010000
END:STANDARD
BEGIN:DAYLIGHT
TZOFFSETFROM:+0000
TZOFFSETTO:+0100
TZNAME:BST
DTSTART:20240331T010000
END:DAYLIGHT
BEGIN:STANDARD
TZOFFSETFROM:+0100
TZOFFSETTO:+0000
TZNAME:GMT
DTSTART:20241027T010000
END:STANDARD
BEGIN:DAYLIGHT
TZOFFSETFROM:+0000
TZOFFSETTO:+0100
TZNAME:BST
DTSTART:20250330T010000
END:DAYLIGHT
BEGIN:STANDARD
TZOFFSETFROM:+0100
TZOFFSETTO:+0000
TZNAME:GMT
DTSTART:20251026T010000
END:STANDARD
END:VTIMEZONE
BEGIN:VEVENT
DTSTART;TZID=Europe/London:20240513T140000
DTEND;TZID=Europe/London:20240513T160000
DTSTAMP:20260421T044333
CREATED:20240414T084219Z
LAST-MODIFIED:20240414T084524Z
UID:8150-1715608800-1715616000@penworthamurc.org.uk
SUMMARY:Community Social Event - All Welcome
DESCRIPTION:On Monday 13 May 2024 at 2.00pm our next Community Event will be held when we welcome Steve Williams with  a talk titled Shifting Sands focusing on the history and changes around Morecambe Bay.
URL:https://penworthamurc.org.uk/event/community-social-event-all-welcome-8/
CATEGORIES:Church Activities,Community Activities
END:VEVENT
BEGIN:VEVENT
DTSTART;TZID=Europe/London:20240512T103000
DTEND;TZID=Europe/London:20240512T113000
DTSTAMP:20260421T044333
CREATED:20240328T134700Z
LAST-MODIFIED:20240328T134826Z
UID:8116-1715509800-1715513400@penworthamurc.org.uk
SUMMARY:Family Worship and Parade Service with 5th Penwortham Scout Group
DESCRIPTION:Led by Robert Bulloch and Gillian Price
URL:https://penworthamurc.org.uk/event/family-worship-and-parade-service-with-5th-penwortham-scout-group-4/
LOCATION:PURC
CATEGORIES:Church Activities,Community Activities,Special Services
END:VEVENT
BEGIN:VEVENT
DTSTART;TZID=Europe/London:20240505T103000
DTEND;TZID=Europe/London:20240505T113000
DTSTAMP:20260421T044333
CREATED:20240328T134436Z
LAST-MODIFIED:20240328T134925Z
UID:8114-1714905000-1714908600@penworthamurc.org.uk
SUMMARY:Family Worship with the Sacrament of Holy Communion
DESCRIPTION:Led by Rev’d Anton Muller (provisionally)
URL:https://penworthamurc.org.uk/event/family-worship-with-the-sacrament-of-holy-communion-12/
LOCATION:PURC
CATEGORIES:Church Activities,Special Services
END:VEVENT
BEGIN:VEVENT
DTSTART;TZID=Europe/London:20240429T140000
DTEND;TZID=Europe/London:20240429T160000
DTSTAMP:20260421T044333
CREATED:20240302T215440Z
LAST-MODIFIED:20240317T083331Z
UID:8084-1714399200-1714406400@penworthamurc.org.uk
SUMMARY:Community Social Event - All Welcome
DESCRIPTION:On Monday 29 April 2024 at 2.00pm our next Community Event will be held when we welcome Brian Topping with Tales of a Customs Officer at London Heathrow in the 1970s-80s. See our Home Page for the details
URL:https://penworthamurc.org.uk/event/community-social-event-all-welcome-7/
CATEGORIES:Church Activities,Community Activities
END:VEVENT
BEGIN:VEVENT
DTSTART;TZID=Europe/London:20240428T103000
DTEND;TZID=Europe/London:20240428T113000
DTSTAMP:20260421T044333
CREATED:20240302T215719Z
LAST-MODIFIED:20240302T215955Z
UID:8087-1714300200-1714303800@penworthamurc.org.uk
SUMMARY:Family Worship
DESCRIPTION:Led by  Margery Pitcher
URL:https://penworthamurc.org.uk/event/family-worship-30/
LOCATION:PURC
CATEGORIES:Church Activities
END:VEVENT
BEGIN:VEVENT
DTSTART;TZID=Europe/London:20240421T103000
DTEND;TZID=Europe/London:20240421T113000
DTSTAMP:20260421T044333
CREATED:20240302T215724Z
LAST-MODIFIED:20240302T215910Z
UID:8088-1713695400-1713699000@penworthamurc.org.uk
SUMMARY:Family Worship
DESCRIPTION:Led by  Linda McLanachan
URL:https://penworthamurc.org.uk/event/family-worship-29/
LOCATION:PURC
CATEGORIES:Church Activities
END:VEVENT
BEGIN:VEVENT
DTSTART;TZID=Europe/London:20240420T103000
DTEND;TZID=Europe/London:20240420T123000
DTSTAMP:20260421T044333
CREATED:20240302T214957Z
LAST-MODIFIED:20240302T215048Z
UID:8080-1713609000-1713616200@penworthamurc.org.uk
SUMMARY:Penwortham Bead Group 10:30 - 12:30 on 3rd Saturday of each month
DESCRIPTION:Led by Esther Turner   07855143050\, meets 3rd Saturday of each month\n£5.00 per session in Church Hall attached to the Church \nCome and see what we are about. Have a chat\, a laugh and get help on your project if needed. Have a coffee/tea and cake. Bring your own cup. The more the merrier. Looking forward to seeing you
URL:https://penworthamurc.org.uk/event/penwortham-bead-group-1030-1230-on-3rd-saturday-of-each-month-10/
CATEGORIES:Community Activities
END:VEVENT
BEGIN:VEVENT
DTSTART;TZID=Europe/London:20240414T103000
DTEND;TZID=Europe/London:20240414T113000
DTSTAMP:20260421T044333
CREATED:20240302T215732Z
LAST-MODIFIED:20240302T215815Z
UID:8089-1713090600-1713094200@penworthamurc.org.uk
SUMMARY:Family Worship
DESCRIPTION:Led by  Jim Wilson
URL:https://penworthamurc.org.uk/event/family-worship-28/
LOCATION:PURC
CATEGORIES:Church Activities
END:VEVENT
BEGIN:VEVENT
DTSTART;TZID=Europe/London:20240407T150000
DTEND;TZID=Europe/London:20240407T160000
DTSTAMP:20260421T044333
CREATED:20240302T215518Z
LAST-MODIFIED:20240302T215706Z
UID:8085-1712502000-1712505600@penworthamurc.org.uk
SUMMARY:Family Worship with the Sacrament of Holy Communion
DESCRIPTION:Led by Rev’d Martin Whiffen (Note 3.00pm afternoon start.)
URL:https://penworthamurc.org.uk/event/family-worship-with-the-sacrament-of-holy-communion-11/
LOCATION:PURC
CATEGORIES:Church Activities,Special Services
END:VEVENT
BEGIN:VEVENT
DTSTART;TZID=Europe/London:20240331T103000
DTEND;TZID=Europe/London:20240331T113000
DTSTAMP:20260421T044333
CREATED:20240111T134602Z
LAST-MODIFIED:20240111T135928Z
UID:8017-1711881000-1711884600@penworthamurc.org.uk
SUMMARY:Family Worship for Easter Sunday
DESCRIPTION:Led by Robert Bulloch
URL:https://penworthamurc.org.uk/event/family-worship-for-easter-sunday/
LOCATION:PURC
CATEGORIES:Church Activities
END:VEVENT
BEGIN:VEVENT
DTSTART;TZID=Europe/London:20240329T100000
DTEND;TZID=Europe/London:20240329T120000
DTSTAMP:20260421T044333
CREATED:20240302T174004Z
LAST-MODIFIED:20240302T221824Z
UID:8094-1711706400-1711713600@penworthamurc.org.uk
SUMMARY:Good Friday Ecumenical Walk of Witness and Act of Worship
DESCRIPTION:This years Churches Together in Penwortham – Ecumenical Good Friday Walk of Witness and Act of Worship will be held at St. Mary’s Parish Church\, Penwortham (see our Home Page) with the Walk of Witness from 10.00am and the Act of Worship at 11.00am on 29 March 2024
URL:https://penworthamurc.org.uk/event/good-friday-ecumenical-walk-of-witness-and-act-of-worship-2/
CATEGORIES:Church Activities,Special Services
END:VEVENT
BEGIN:VEVENT
DTSTART;TZID=Europe/London:20240328T193000
DTEND;TZID=Europe/London:20240328T203000
DTSTAMP:20260421T044333
CREATED:20240111T135438Z
LAST-MODIFIED:20240111T135554Z
UID:8030-1711654200-1711657800@penworthamurc.org.uk
SUMMARY:Sacrament of Holy Communion for Maundy Thursday
DESCRIPTION:Led by  Robert Bulloch
URL:https://penworthamurc.org.uk/event/sacrament-of-holy-communion-for-maundy-thursday/
LOCATION:PURC
CATEGORIES:Church Activities,Special Services
END:VEVENT
BEGIN:VEVENT
DTSTART;TZID=Europe/London:20240324T103000
DTEND;TZID=Europe/London:20240324T113000
DTSTAMP:20260421T044333
CREATED:20240111T134610Z
LAST-MODIFIED:20240111T134705Z
UID:8019-1711276200-1711279800@penworthamurc.org.uk
SUMMARY:Family Worship
DESCRIPTION:Led by  Rev’d Frank Kendall
URL:https://penworthamurc.org.uk/event/family-worship-26/
LOCATION:PURC
CATEGORIES:Church Activities
END:VEVENT
BEGIN:VEVENT
DTSTART;TZID=Europe/London:20240318T140000
DTEND;TZID=Europe/London:20240318T160000
DTSTAMP:20260421T044333
CREATED:20240302T215104Z
LAST-MODIFIED:20240302T215414Z
UID:8082-1710770400-1710777600@penworthamurc.org.uk
SUMMARY:Community Social Event - All Welcome
DESCRIPTION:On Monday 18 March 2024 at 2.00pm our next Community Event will be held when we welcome Matthew Lepp from Tiger Muffin Soaps with an amusing talk and demonstrations.  See our Home Page for the details
URL:https://penworthamurc.org.uk/event/community-social-event-all-welcome-6/
CATEGORIES:Church Activities,Community Activities
END:VEVENT
BEGIN:VEVENT
DTSTART;TZID=Europe/London:20240317T103000
DTEND;TZID=Europe/London:20240317T113000
DTSTAMP:20260421T044333
CREATED:20240111T134606Z
LAST-MODIFIED:20240111T134805Z
UID:8018-1710671400-1710675000@penworthamurc.org.uk
SUMMARY:Family Worship
DESCRIPTION:Led by  Rev’d Rob Hoch
URL:https://penworthamurc.org.uk/event/family-worship-27/
LOCATION:PURC
CATEGORIES:Church Activities
END:VEVENT
BEGIN:VEVENT
DTSTART;TZID=Europe/London:20240316T103000
DTEND;TZID=Europe/London:20240316T123000
DTSTAMP:20260421T044333
CREATED:20240111T134944Z
LAST-MODIFIED:20240111T135016Z
UID:8023-1710585000-1710592200@penworthamurc.org.uk
SUMMARY:Penwortham Bead Group 10:30 - 12:30 on 3rd Saturday of each month
DESCRIPTION:Led by Esther Turner   07855143050\, meets 3rd Saturday of each month\n£5.00 per session in Church Hall attached to the Church \nCome and see what we are about. Have a chat\, a laugh and get help on your project if needed. Have a coffee/tea and cake. Bring your own cup. The more the merrier. Looking forward to seeing you
URL:https://penworthamurc.org.uk/event/penwortham-bead-group-1030-1230-on-3rd-saturday-of-each-month-9/
CATEGORIES:Community Activities
END:VEVENT
BEGIN:VEVENT
DTSTART;TZID=Europe/London:20240310T103000
DTEND;TZID=Europe/London:20240310T113000
DTSTAMP:20260421T044333
CREATED:20240111T135126Z
LAST-MODIFIED:20240111T135213Z
UID:8027-1710066600-1710070200@penworthamurc.org.uk
SUMMARY:Family Worship and Parade Service with 5th Penwortham Scout Group
DESCRIPTION:Led by 5th Penwortham Scout Group
URL:https://penworthamurc.org.uk/event/family-worship-and-parade-service-with-5th-penwortham-scout-group-3/
LOCATION:PURC
CATEGORIES:Church Activities,Community Activities,Special Services
END:VEVENT
BEGIN:VEVENT
DTSTART;TZID=Europe/London:20240303T103000
DTEND;TZID=Europe/London:20240303T113000
DTSTAMP:20260421T044333
CREATED:20240111T135030Z
LAST-MODIFIED:20240111T135108Z
UID:8025-1709461800-1709465400@penworthamurc.org.uk
SUMMARY:Family Worship with the Sacrament of Holy Communion
DESCRIPTION:Led by  Jennifer Liddell
URL:https://penworthamurc.org.uk/event/family-worship-with-the-sacrament-of-holy-communion-10/
LOCATION:PURC
CATEGORIES:Church Activities,Special Services
END:VEVENT
BEGIN:VEVENT
DTSTART;TZID=Europe/London:20240226T140000
DTEND;TZID=Europe/London:20240226T160000
DTSTAMP:20260421T044333
CREATED:20240111T131657Z
LAST-MODIFIED:20240111T131825Z
UID:8015-1708956000-1708963200@penworthamurc.org.uk
SUMMARY:Community Social Event - All Welcome
DESCRIPTION:On Monday 26 February 2024 at 2.00pm our next Community Event will be held when we welcome Eric Newton and his Clarinet. See our Home Page for the details
URL:https://penworthamurc.org.uk/event/community-social-event-all-welcome-5/
CATEGORIES:Church Activities,Community Activities
END:VEVENT
BEGIN:VEVENT
DTSTART;TZID=Europe/London:20240225T103000
DTEND;TZID=Europe/London:20240225T113000
DTSTAMP:20260421T044333
CREATED:20240111T131427Z
LAST-MODIFIED:20240127T092428Z
UID:8011-1708857000-1708860600@penworthamurc.org.uk
SUMMARY:Family Worship
DESCRIPTION:Led by  Gillian Price
URL:https://penworthamurc.org.uk/event/family-worship-25/
LOCATION:PURC
CATEGORIES:Church Activities
END:VEVENT
BEGIN:VEVENT
DTSTART;TZID=Europe/London:20240218T103000
DTEND;TZID=Europe/London:20240218T113000
DTSTAMP:20260421T044333
CREATED:20240111T131432Z
LAST-MODIFIED:20240127T092359Z
UID:8012-1708252200-1708255800@penworthamurc.org.uk
SUMMARY:Family Worship
DESCRIPTION:Led by  The Elders – Hymns\, Readings and Poems\nPlease let Robert know if you have a favourite
URL:https://penworthamurc.org.uk/event/family-worship-24/
LOCATION:PURC
CATEGORIES:Church Activities
END:VEVENT
BEGIN:VEVENT
DTSTART;TZID=Europe/London:20240217T103000
DTEND;TZID=Europe/London:20240217T123000
DTSTAMP:20260421T044333
CREATED:20240111T131007Z
LAST-MODIFIED:20240111T131107Z
UID:8005-1708165800-1708173000@penworthamurc.org.uk
SUMMARY:Penwortham Bead Group 10:30 - 12:30 on 3rd Saturday of each month
DESCRIPTION:Led by Esther Turner   07855143050\, meets 3rd Saturday of each month\n£5.00 per session in Church Hall attached to the Church \nCome and see what we are about. Have a chat\, a laugh and get help on your project if needed. Have a coffee/tea and cake. Bring your own cup. The more the merrier. Looking forward to seeing you
URL:https://penworthamurc.org.uk/event/penwortham-bead-group-1030-1230-on-3rd-saturday-of-each-month-8/
CATEGORIES:Community Activities
END:VEVENT
BEGIN:VEVENT
DTSTART;TZID=Europe/London:20240211T103000
DTEND;TZID=Europe/London:20240211T113000
DTSTAMP:20260421T044333
CREATED:20240111T131250Z
LAST-MODIFIED:20240111T131346Z
UID:8009-1707647400-1707651000@penworthamurc.org.uk
SUMMARY:Family Worship and Parade Service with 5th Penwortham Scout Group
DESCRIPTION:Led by Steven Mitchell
URL:https://penworthamurc.org.uk/event/family-worship-and-parade-service-with-5th-penwortham-scout-group-2/
LOCATION:PURC
CATEGORIES:Church Activities,Community Activities,Special Services
END:VEVENT
BEGIN:VEVENT
DTSTART;TZID=Europe/London:20240204T103000
DTEND;TZID=Europe/London:20240204T113000
DTSTAMP:20260421T044333
CREATED:20240111T131150Z
LAST-MODIFIED:20240111T131235Z
UID:8007-1707042600-1707046200@penworthamurc.org.uk
SUMMARY:Family Worship with the Sacrament of Holy Communion
DESCRIPTION:Led by  Rev’d Rob Hoch
URL:https://penworthamurc.org.uk/event/family-worship-with-the-sacrament-of-holy-communion-9/
LOCATION:PURC
CATEGORIES:Church Activities,Special Services
END:VEVENT
BEGIN:VEVENT
DTSTART;TZID=Europe/London:20240128T103000
DTEND;TZID=Europe/London:20240128T113000
DTSTAMP:20260421T044333
CREATED:20231204T153226Z
LAST-MODIFIED:20231204T153325Z
UID:7959-1706437800-1706441400@penworthamurc.org.uk
SUMMARY:Family Worship
DESCRIPTION:Led by  “To Be Advised”
URL:https://penworthamurc.org.uk/event/family-worship-23/
LOCATION:PURC
CATEGORIES:Church Activities
END:VEVENT
BEGIN:VEVENT
DTSTART;TZID=Europe/London:20240121T160000
DTEND;TZID=Europe/London:20240121T170000
DTSTAMP:20260421T044333
CREATED:20240111T153935Z
LAST-MODIFIED:20240111T153935Z
UID:8036-1705852800-1705856400@penworthamurc.org.uk
SUMMARY:Week of Prayer for Christian Unity - Service
DESCRIPTION:The Churches Together in Penwortham joint service for the Week of Prayer for Christian Unity will be held at Penwortham United Reformed Church at 4pm on Sunday 21 January 2024. All are Welcome-
URL:https://penworthamurc.org.uk/event/week-of-prayer-for-christian-unity-service/
CATEGORIES:Church Activities,Community Activities,Special Services
END:VEVENT
BEGIN:VEVENT
DTSTART;TZID=Europe/London:20240121T103000
DTEND;TZID=Europe/London:20240121T113000
DTSTAMP:20260421T044333
CREATED:20231204T153107Z
LAST-MODIFIED:20231204T153154Z
UID:7957-1705833000-1705836600@penworthamurc.org.uk
SUMMARY:Family Worship
DESCRIPTION:Led by  Gill Turner
URL:https://penworthamurc.org.uk/event/family-worship-22/
LOCATION:PURC
CATEGORIES:Church Activities
END:VEVENT
BEGIN:VEVENT
DTSTART;TZID=Europe/London:20240120T103000
DTEND;TZID=Europe/London:20240120T123000
DTSTAMP:20260421T044333
CREATED:20231204T153405Z
LAST-MODIFIED:20231204T153453Z
UID:7961-1705746600-1705753800@penworthamurc.org.uk
SUMMARY:Penwortham Bead Group 10:30 - 12:30 on 3rd Saturday of each month
DESCRIPTION:Led by Esther Turner   07855143050\, meets 3rd Saturday of each month\n£5.00 per session in Church Hall attached to the Church \nCome and see what we are about. Have a chat\, a laugh and get help on your project if needed. Have a coffee/tea and cake. Bring your own cup. The more the merrier. Looking forward to seeing you
URL:https://penworthamurc.org.uk/event/penwortham-bead-group-1030-1230-on-3rd-saturday-of-each-month-7/
CATEGORIES:Community Activities
END:VEVENT
BEGIN:VEVENT
DTSTART;TZID=Europe/London:20240114T103000
DTEND;TZID=Europe/London:20240114T113000
DTSTAMP:20260421T044333
CREATED:20231204T152937Z
LAST-MODIFIED:20231204T153044Z
UID:7955-1705228200-1705231800@penworthamurc.org.uk
SUMMARY:Family Worship and Parade Service with 5th Penwortham Scout Group
DESCRIPTION:Led by To Be Advised
URL:https://penworthamurc.org.uk/event/family-worship-and-parade-service-with-5th-penwortham-scout-group/
LOCATION:PURC
CATEGORIES:Church Activities,Community Activities,Special Services
END:VEVENT
BEGIN:VEVENT
DTSTART;TZID=Europe/London:20240107T103000
DTEND;TZID=Europe/London:20240107T113000
DTSTAMP:20260421T044333
CREATED:20231204T152717Z
LAST-MODIFIED:20231204T152852Z
UID:7953-1704623400-1704627000@penworthamurc.org.uk
SUMMARY:Family Worship with the Sacrament of Holy Communion
DESCRIPTION:Led by  Margery Pitcher
URL:https://penworthamurc.org.uk/event/family-worship-with-the-sacrament-of-holy-communion-8/
LOCATION:PURC
CATEGORIES:Church Activities,Special Services
END:VEVENT
END:VCALENDAR