BEGIN:VCALENDAR
VERSION:2.0
PRODID:-//Penwortham United Reformed Church - ECPv6.15.20//NONSGML v1.0//EN
CALSCALE:GREGORIAN
METHOD:PUBLISH
X-ORIGINAL-URL:https://penworthamurc.org.uk
X-WR-CALDESC:Events for Penwortham United Reformed Church
REFRESH-INTERVAL;VALUE=DURATION:PT1H
X-Robots-Tag:noindex
X-PUBLISHED-TTL:PT1H
BEGIN:VTIMEZONE
TZID:Europe/London
BEGIN:DAYLIGHT
TZOFFSETFROM:+0000
TZOFFSETTO:+0100
TZNAME:BST
DTSTART:20250330T010000
END:DAYLIGHT
BEGIN:STANDARD
TZOFFSETFROM:+0100
TZOFFSETTO:+0000
TZNAME:GMT
DTSTART:20251026T010000
END:STANDARD
BEGIN:DAYLIGHT
TZOFFSETFROM:+0000
TZOFFSETTO:+0100
TZNAME:BST
DTSTART:20260329T010000
END:DAYLIGHT
BEGIN:STANDARD
TZOFFSETFROM:+0100
TZOFFSETTO:+0000
TZNAME:GMT
DTSTART:20261025T010000
END:STANDARD
BEGIN:DAYLIGHT
TZOFFSETFROM:+0000
TZOFFSETTO:+0100
TZNAME:BST
DTSTART:20270328T010000
END:DAYLIGHT
BEGIN:STANDARD
TZOFFSETFROM:+0100
TZOFFSETTO:+0000
TZNAME:GMT
DTSTART:20271031T010000
END:STANDARD
END:VTIMEZONE
BEGIN:VEVENT
DTSTART;TZID=Europe/London:20260526T064500
DTEND;TZID=Europe/London:20260526T200000
DTSTAMP:20260420T084029
CREATED:20260121T170512Z
LAST-MODIFIED:20260123T164453Z
UID:9446-1779777900-1779825600@penworthamurc.org.uk
SUMMARY:PURC - Community Choir
DESCRIPTION:Penwortham URC – Community Choir on Tuesday 26 May 6:45-8:00 pm. for info contact Katie penworthamurcgamilyworker@gmail.com \n 
URL:https://penworthamurc.org.uk/event/purc-community-choir-12/
CATEGORIES:Church Activities,Community Activities
END:VEVENT
BEGIN:VEVENT
DTSTART;TZID=Europe/London:20260531T103000
DTEND;TZID=Europe/London:20260531T113000
DTSTAMP:20260420T084029
CREATED:20260328T133507Z
LAST-MODIFIED:20260328T133659Z
UID:9645-1780223400-1780227000@penworthamurc.org.uk
SUMMARY:Churches Together in Penwortham - Worship - Details to be Advised
DESCRIPTION:Details to be advised \n 
URL:https://penworthamurc.org.uk/event/family-worship-80-copy/
LOCATION:PURC
CATEGORIES:Church Activities
END:VEVENT
END:VCALENDAR