BEGIN:VCALENDAR
VERSION:2.0
PRODID:-//Penwortham United Reformed Church - ECPv6.15.20//NONSGML v1.0//EN
CALSCALE:GREGORIAN
METHOD:PUBLISH
X-ORIGINAL-URL:https://penworthamurc.org.uk
X-WR-CALDESC:Events for Penwortham United Reformed Church
REFRESH-INTERVAL;VALUE=DURATION:PT1H
X-Robots-Tag:noindex
X-PUBLISHED-TTL:PT1H
BEGIN:VTIMEZONE
TZID:Europe/London
BEGIN:DAYLIGHT
TZOFFSETFROM:+0000
TZOFFSETTO:+0100
TZNAME:BST
DTSTART:20250330T010000
END:DAYLIGHT
BEGIN:STANDARD
TZOFFSETFROM:+0100
TZOFFSETTO:+0000
TZNAME:GMT
DTSTART:20251026T010000
END:STANDARD
BEGIN:DAYLIGHT
TZOFFSETFROM:+0000
TZOFFSETTO:+0100
TZNAME:BST
DTSTART:20260329T010000
END:DAYLIGHT
BEGIN:STANDARD
TZOFFSETFROM:+0100
TZOFFSETTO:+0000
TZNAME:GMT
DTSTART:20261025T010000
END:STANDARD
BEGIN:DAYLIGHT
TZOFFSETFROM:+0000
TZOFFSETTO:+0100
TZNAME:BST
DTSTART:20270328T010000
END:DAYLIGHT
BEGIN:STANDARD
TZOFFSETFROM:+0100
TZOFFSETTO:+0000
TZNAME:GMT
DTSTART:20271031T010000
END:STANDARD
END:VTIMEZONE
BEGIN:VEVENT
DTSTART;TZID=Europe/London:20260412T103000
DTEND;TZID=Europe/London:20260412T113000
DTSTAMP:20260420T084134
CREATED:20260328T132019Z
LAST-MODIFIED:20260328T132120Z
UID:9627-1775989800-1775993400@penworthamurc.org.uk
SUMMARY:Family Worship
DESCRIPTION:Led by George Grime \n 
URL:https://penworthamurc.org.uk/event/family-worship-76/
LOCATION:PURC
CATEGORIES:Church Activities
END:VEVENT
BEGIN:VEVENT
DTSTART;TZID=Europe/London:20260413T140000
DTEND;TZID=Europe/London:20260413T153000
DTSTAMP:20260420T084134
CREATED:20260122T162645Z
LAST-MODIFIED:20260123T164232Z
UID:9451-1776088800-1776094200@penworthamurc.org.uk
SUMMARY:PURC-Creative Connections Art Club
DESCRIPTION:The 2nd Session of the free afternoon art club for adults is being held at Penwortham United Reformed Church. \nFor details click the Title above and then on the poster icon on the left. \n 
URL:https://penworthamurc.org.uk/event/purc-creative-connections-art-club-copy/
CATEGORIES:Church Activities,Community Activities
END:VEVENT
BEGIN:VEVENT
DTSTART;TZID=Europe/London:20260418T103000
DTEND;TZID=Europe/London:20260418T123000
DTSTAMP:20260420T084134
CREATED:20260328T132708Z
LAST-MODIFIED:20260328T132751Z
UID:9636-1776508200-1776515400@penworthamurc.org.uk
SUMMARY:Penwortham Bead Group 10:30 - 12:30 on 3rd Saturday of each month
DESCRIPTION:Led by Esther Turner   07855143050\, meets 3rd Saturday of each month\n£5.00 per session in Church Hall attached to the Church \nCome and see what we are about. Have a chat\, a laugh and get help on your project if needed. Have a coffee/tea and cake. Bring your own cup. The more the merrier. Looking forward to seeing you
URL:https://penworthamurc.org.uk/event/penwortham-bead-group-1030-1230-on-3rd-saturday-of-each-month-25/
CATEGORIES:Community Activities
END:VEVENT
BEGIN:VEVENT
DTSTART;TZID=Europe/London:20260419T103000
DTEND;TZID=Europe/London:20260419T113000
DTSTAMP:20260420T084134
CREATED:20260328T132133Z
LAST-MODIFIED:20260328T132212Z
UID:9629-1776594600-1776598200@penworthamurc.org.uk
SUMMARY:Family Worship
DESCRIPTION:Led by Margery Pitcher \n 
URL:https://penworthamurc.org.uk/event/family-worship-77/
LOCATION:PURC
CATEGORIES:Church Activities
END:VEVENT
BEGIN:VEVENT
DTSTART;TZID=Europe/London:20260426T103000
DTEND;TZID=Europe/London:20260426T113000
DTSTAMP:20260420T084134
CREATED:20260328T132227Z
LAST-MODIFIED:20260328T132309Z
UID:9631-1777199400-1777203000@penworthamurc.org.uk
SUMMARY:Family Worship
DESCRIPTION:Led by Margery Pitcher \n 
URL:https://penworthamurc.org.uk/event/family-worship-78/
LOCATION:PURC
CATEGORIES:Church Activities
END:VEVENT
BEGIN:VEVENT
DTSTART;TZID=Europe/London:20260428T064500
DTEND;TZID=Europe/London:20260428T200000
DTSTAMP:20260420T084134
CREATED:20260121T170407Z
LAST-MODIFIED:20260123T164421Z
UID:9444-1777358700-1777406400@penworthamurc.org.uk
SUMMARY:PURC - Community Choir
DESCRIPTION:Penwortham URC – Community Choir on Tuesday 28 April 6:45-8:00 pm. for info contact Katie penworthamurcgamilyworker@gmail.com \n 
URL:https://penworthamurc.org.uk/event/purc-community-choir-11/
CATEGORIES:Church Activities,Community Activities
END:VEVENT
BEGIN:VEVENT
DTSTART;TZID=Europe/London:20260503T103000
DTEND;TZID=Europe/London:20260503T103000
DTSTAMP:20260420T084134
CREATED:20260328T132434Z
LAST-MODIFIED:20260328T134319Z
UID:9633-1777804200-1777804200@penworthamurc.org.uk
SUMMARY:Family Worship and PURC AGM
DESCRIPTION:Led by  The Elders \nFollowed by the Church Annual General Meeting
URL:https://penworthamurc.org.uk/event/family-worship-and-purc-agm/
LOCATION:PURC
CATEGORIES:Church Activities
END:VEVENT
BEGIN:VEVENT
DTSTART;TZID=Europe/London:20260509T143000
DTEND;TZID=Europe/London:20260509T163000
DTSTAMP:20260420T084134
CREATED:20260123T163233Z
LAST-MODIFIED:20260123T164008Z
UID:9475-1778337000-1778344200@penworthamurc.org.uk
SUMMARY:Messy Church @PURC : 2.30 - 4:30 9 May 2026
DESCRIPTION:Click on the Title above and then on the poster icon for details. The “Messy Church” Name and Logo are registered trademarks of Bible Reading Fellowship (BRF)\, a charity (22380) and company limited by guarantee (301324)\, registered in England and Wales. \n  \n 
URL:https://penworthamurc.org.uk/event/messy-church-purc-2-30-430-9-may-2026/
LOCATION:PURC
CATEGORIES:Church Activities,Community Activities
END:VEVENT
BEGIN:VEVENT
DTSTART;TZID=Europe/London:20260510T103000
DTEND;TZID=Europe/London:20260510T113000
DTSTAMP:20260420T084134
CREATED:20260328T133125Z
LAST-MODIFIED:20260328T133218Z
UID:9639-1778409000-1778412600@penworthamurc.org.uk
SUMMARY:Parade Service - with 5th Penwortham Scout Group
DESCRIPTION:Led by Jennifer Liddell \n 
URL:https://penworthamurc.org.uk/event/parade-service-with-5th-penwortham-scout-group-3/
LOCATION:PURC
CATEGORIES:Church Activities,Community Activities,Special Services
END:VEVENT
BEGIN:VEVENT
DTSTART;TZID=Europe/London:20260516T103000
DTEND;TZID=Europe/London:20260516T123000
DTSTAMP:20260420T084134
CREATED:20260328T132646Z
LAST-MODIFIED:20260328T132850Z
UID:9635-1778927400-1778934600@penworthamurc.org.uk
SUMMARY:Penwortham Bead Group 10:30 - 12:30 on 3rd Saturday of each month
DESCRIPTION:Led by Esther Turner   07855143050\, meets 3rd Saturday of each month\n£5.00 per session in Church Hall attached to the Church \nCome and see what we are about. Have a chat\, a laugh and get help on your project if needed. Have a coffee/tea and cake. Bring your own cup. The more the merrier. Looking forward to seeing you
URL:https://penworthamurc.org.uk/event/penwortham-bead-group-1030-1230-on-3rd-saturday-of-each-month-26/
CATEGORIES:Community Activities
END:VEVENT
BEGIN:VEVENT
DTSTART;TZID=Europe/London:20260517T103000
DTEND;TZID=Europe/London:20260517T113000
DTSTAMP:20260420T084134
CREATED:20260328T133256Z
LAST-MODIFIED:20260328T133343Z
UID:9642-1779013800-1779017400@penworthamurc.org.uk
SUMMARY:Family Worship
DESCRIPTION:Led by  \n 
URL:https://penworthamurc.org.uk/event/family-worship-79/
LOCATION:PURC
CATEGORIES:Church Activities
END:VEVENT
BEGIN:VEVENT
DTSTART;TZID=Europe/London:20260524T103000
DTEND;TZID=Europe/London:20260524T113000
DTSTAMP:20260420T084134
CREATED:20260328T133244Z
LAST-MODIFIED:20260328T133450Z
UID:9641-1779618600-1779622200@penworthamurc.org.uk
SUMMARY:Family Worship
DESCRIPTION:Led by Rev’d Brian Drury \n 
URL:https://penworthamurc.org.uk/event/family-worship-80/
LOCATION:PURC
CATEGORIES:Church Activities
END:VEVENT
BEGIN:VEVENT
DTSTART;TZID=Europe/London:20260526T064500
DTEND;TZID=Europe/London:20260526T200000
DTSTAMP:20260420T084134
CREATED:20260121T170512Z
LAST-MODIFIED:20260123T164453Z
UID:9446-1779777900-1779825600@penworthamurc.org.uk
SUMMARY:PURC - Community Choir
DESCRIPTION:Penwortham URC – Community Choir on Tuesday 26 May 6:45-8:00 pm. for info contact Katie penworthamurcgamilyworker@gmail.com \n 
URL:https://penworthamurc.org.uk/event/purc-community-choir-12/
CATEGORIES:Church Activities,Community Activities
END:VEVENT
BEGIN:VEVENT
DTSTART;TZID=Europe/London:20260531T103000
DTEND;TZID=Europe/London:20260531T113000
DTSTAMP:20260420T084134
CREATED:20260328T133507Z
LAST-MODIFIED:20260328T133659Z
UID:9645-1780223400-1780227000@penworthamurc.org.uk
SUMMARY:Churches Together in Penwortham - Worship - Details to be Advised
DESCRIPTION:Details to be advised \n 
URL:https://penworthamurc.org.uk/event/family-worship-80-copy/
LOCATION:PURC
CATEGORIES:Church Activities
END:VEVENT
END:VCALENDAR