BEGIN:VCALENDAR
VERSION:2.0
PRODID:-//Penwortham United Reformed Church - ECPv6.15.20//NONSGML v1.0//EN
CALSCALE:GREGORIAN
METHOD:PUBLISH
X-WR-CALNAME:Penwortham United Reformed Church
X-ORIGINAL-URL:https://penworthamurc.org.uk
X-WR-CALDESC:Events for Penwortham United Reformed Church
REFRESH-INTERVAL;VALUE=DURATION:PT1H
X-Robots-Tag:noindex
X-PUBLISHED-TTL:PT1H
BEGIN:VTIMEZONE
TZID:Europe/London
BEGIN:DAYLIGHT
TZOFFSETFROM:+0000
TZOFFSETTO:+0100
TZNAME:BST
DTSTART:20240331T010000
END:DAYLIGHT
BEGIN:STANDARD
TZOFFSETFROM:+0100
TZOFFSETTO:+0000
TZNAME:GMT
DTSTART:20241027T010000
END:STANDARD
BEGIN:DAYLIGHT
TZOFFSETFROM:+0000
TZOFFSETTO:+0100
TZNAME:BST
DTSTART:20250330T010000
END:DAYLIGHT
BEGIN:STANDARD
TZOFFSETFROM:+0100
TZOFFSETTO:+0000
TZNAME:GMT
DTSTART:20251026T010000
END:STANDARD
BEGIN:DAYLIGHT
TZOFFSETFROM:+0000
TZOFFSETTO:+0100
TZNAME:BST
DTSTART:20260329T010000
END:DAYLIGHT
BEGIN:STANDARD
TZOFFSETFROM:+0100
TZOFFSETTO:+0000
TZNAME:GMT
DTSTART:20261025T010000
END:STANDARD
END:VTIMEZONE
BEGIN:VEVENT
DTSTART;TZID=Europe/London:20250608T103000
DTEND;TZID=Europe/London:20250608T113000
DTSTAMP:20260420T024908
CREATED:20250425T142415Z
LAST-MODIFIED:20250425T142544Z
UID:8768-1749378600-1749382200@penworthamurc.org.uk
SUMMARY:Family Worship
DESCRIPTION:
URL:https://penworthamurc.org.uk/event/family-worship-56/
LOCATION:PURC
CATEGORIES:Church Activities
END:VEVENT
BEGIN:VEVENT
DTSTART;VALUE=DATE:20250614
DTEND;VALUE=DATE:20250615
DTSTAMP:20260420T024908
CREATED:20250528T185600Z
LAST-MODIFIED:20250528T185752Z
UID:8829-1749859200-1749945599@penworthamurc.org.uk
SUMMARY:Penwortham Gala - Hurst Grange Park with Procession 14&15 June 2025
DESCRIPTION:For details see Penwortham Town Council website
URL:https://penworthamurc.org.uk/event/penwortham-gala-hurst-grange-park-with-procession-1415-june-2025/
LOCATION:PURC
CATEGORIES:Church Activities,Community Activities,Special Services
END:VEVENT
BEGIN:VEVENT
DTSTART;TZID=Europe/London:20250615T110000
DTEND;TZID=Europe/London:20250615T120000
DTSTAMP:20260420T024908
CREATED:20250425T142831Z
LAST-MODIFIED:20250528T184133Z
UID:8772-1749985200-1749988800@penworthamurc.org.uk
SUMMARY:Ecumenical Service at the Penwortham Gala - Hurst Grange Park
DESCRIPTION:Penwortham Gala Service  – Circa 11.00 am \nIf raining the service will be held at Penwortham United Reformed Church. Liverpool Road at 11.00am .
URL:https://penworthamurc.org.uk/event/ecumenical-service-at-the-penwortham-gala-hurst-grange-park-2/
LOCATION:PURC
CATEGORIES:Church Activities,Community Activities,Special Services
END:VEVENT
BEGIN:VEVENT
DTSTART;TZID=Europe/London:20250621T103000
DTEND;TZID=Europe/London:20250621T123000
DTSTAMP:20260420T024908
CREATED:20250425T144804Z
LAST-MODIFIED:20250425T145021Z
UID:8782-1750501800-1750509000@penworthamurc.org.uk
SUMMARY:Penwortham Bead Group 10:30 - 12:30 on 3rd Saturday of each month
DESCRIPTION:Led by Esther Turner   07855143050\, meets 3rd Saturday of each month\n£5.00 per session in Church Hall attached to the Church \nCome and see what we are about. Have a chat\, a laugh and get help on your project if needed. Have a coffee/tea and cake. Bring your own cup. The more the merrier. Looking forward to seeing you
URL:https://penworthamurc.org.uk/event/penwortham-bead-group-1030-1230-on-3rd-saturday-of-each-month-19/
CATEGORIES:Community Activities
END:VEVENT
BEGIN:VEVENT
DTSTART;TZID=Europe/London:20250622T103000
DTEND;TZID=Europe/London:20250622T113000
DTSTAMP:20260420T024908
CREATED:20250425T142404Z
LAST-MODIFIED:20250425T142654Z
UID:8767-1750588200-1750591800@penworthamurc.org.uk
SUMMARY:Family Worship
DESCRIPTION:Led by  Steven Mitchell \n 
URL:https://penworthamurc.org.uk/event/family-worship-57/
LOCATION:PURC
CATEGORIES:Church Activities
END:VEVENT
BEGIN:VEVENT
DTSTART;TZID=Europe/London:20250625T190000
DTEND;TZID=Europe/London:20250625T201500
DTSTAMP:20260420T024908
CREATED:20250530T124126Z
LAST-MODIFIED:20250530T124250Z
UID:8891-1750878000-1750882500@penworthamurc.org.uk
SUMMARY:PURC -  Community Choir
DESCRIPTION:Penwortham URC – Community Choir on Wednesday 25th June June 7:00-8:15 pm. Click on Event Title above and then the Poster Icon that appears for details. \n 
URL:https://penworthamurc.org.uk/event/purc-community-choir-2/
CATEGORIES:Church Activities,Community Activities
END:VEVENT
BEGIN:VEVENT
DTSTART;TZID=Europe/London:20250629T103000
DTEND;TZID=Europe/London:20250629T113000
DTSTAMP:20260420T024908
CREATED:20250425T143733Z
LAST-MODIFIED:20250425T143816Z
UID:8778-1751193000-1751196600@penworthamurc.org.uk
SUMMARY:Family Worship - Junior Church Anniversary
DESCRIPTION:Led by  Junior Church
URL:https://penworthamurc.org.uk/event/family-worship-junior-church-anniversary-3/
LOCATION:PURC
CATEGORIES:Church Activities,Special Services
END:VEVENT
BEGIN:VEVENT
DTSTART;TZID=Europe/London:20250630T140000
DTEND;TZID=Europe/London:20250630T160000
DTSTAMP:20260420T024908
CREATED:20250528T182614Z
LAST-MODIFIED:20250606T133350Z
UID:8810-1751292000-1751299200@penworthamurc.org.uk
SUMMARY:Community Social Afternoon
DESCRIPTION:A Talk by Frank Vigon on “The Strange Birth of British TV” . Click the Event Title above and then the Poster Icon that appears for more information\nNote that the Topic subject matter has changed from that originally published. Followed by Refreshments\nCost £4.00. Do come along and bring a friend. All Welcome \n 
URL:https://penworthamurc.org.uk/event/community-social-afternoon-7/
CATEGORIES:Church Activities,Community Activities
END:VEVENT
BEGIN:VEVENT
DTSTART;TZID=Europe/London:20250705T143000
DTEND;TZID=Europe/London:20250705T163000
DTSTAMP:20260420T024908
CREATED:20250530T110005Z
LAST-MODIFIED:20250530T121530Z
UID:8870-1751725800-1751733000@penworthamurc.org.uk
SUMMARY:Messy Church - 2.30pm Saturday 5 July
DESCRIPTION:The next Messy Church will be held on Saturday 5th July at 2.30 – 4.30 pm. Click on the poster icon for details\nThe “Messy Church” Name and Logo are registered trademarks of Bible Reading Fellowship (BRF)\, a charity (22380) and company limited by guarantee (301324)\, registered in England and Wales. \n  \n 
URL:https://penworthamurc.org.uk/event/messy-church-2-30pm-saturday-5-july/
LOCATION:PURC
CATEGORIES:Church Activities,Community Activities
END:VEVENT
BEGIN:VEVENT
DTSTART;TZID=Europe/London:20250706T150000
DTEND;TZID=Europe/London:20250706T160000
DTSTAMP:20260420T024908
CREATED:20250528T181142Z
LAST-MODIFIED:20250528T182408Z
UID:8799-1751814000-1751817600@penworthamurc.org.uk
SUMMARY:Family Worship with the Sacrament of Holy Communion
DESCRIPTION:Led by Rev’d Martin Whiffen \n  \nNote this is an AFTERNOON service \n  \n 
URL:https://penworthamurc.org.uk/event/family-worship-with-the-sacrament-of-holy-communion-26/
LOCATION:PURC
CATEGORIES:Church Activities,Special Services
END:VEVENT
BEGIN:VEVENT
DTSTART;TZID=Europe/London:20250713T103000
DTEND;TZID=Europe/London:20250713T113000
DTSTAMP:20260420T024908
CREATED:20250528T181910Z
LAST-MODIFIED:20250528T182022Z
UID:8805-1752402600-1752406200@penworthamurc.org.uk
SUMMARY:Family Worship and Parade Service with 5th Penwortham Scout Group
DESCRIPTION:Led byLeo Roberts
URL:https://penworthamurc.org.uk/event/family-worship-and-parade-service-with-5th-penwortham-scout-group-11/
LOCATION:PURC
CATEGORIES:Church Activities,Community Activities,Special Services
END:VEVENT
BEGIN:VEVENT
DTSTART;TZID=Europe/London:20250719T103000
DTEND;TZID=Europe/London:20250719T123000
DTSTAMP:20260420T024908
CREATED:20250528T182823Z
LAST-MODIFIED:20250528T182904Z
UID:8812-1752921000-1752928200@penworthamurc.org.uk
SUMMARY:Penwortham Bead Group 10:30 - 12:30 on 3rd Saturday of each month
DESCRIPTION:Led by Esther Turner   07855143050\, meets 3rd Saturday of each month\n£5.00 per session in Church Hall attached to the Church \nCome and see what we are about. Have a chat\, a laugh and get help on your project if needed. Have a coffee/tea and cake. Bring your own cup. The more the merrier. Looking forward to seeing you
URL:https://penworthamurc.org.uk/event/penwortham-bead-group-1030-1230-on-3rd-saturday-of-each-month-20/
CATEGORIES:Community Activities
END:VEVENT
BEGIN:VEVENT
DTSTART;TZID=Europe/London:20250720T103000
DTEND;TZID=Europe/London:20250720T113000
DTSTAMP:20260420T024908
CREATED:20250528T181609Z
LAST-MODIFIED:20250528T182156Z
UID:8804-1753007400-1753011000@penworthamurc.org.uk
SUMMARY:Family Worship
DESCRIPTION:Led by Robert Bulloch \nFollowed by Refreshments
URL:https://penworthamurc.org.uk/event/family-worship-58/
LOCATION:PURC
CATEGORIES:Church Activities
END:VEVENT
BEGIN:VEVENT
DTSTART;TZID=Europe/London:20250722T190000
DTEND;TZID=Europe/London:20250722T201500
DTSTAMP:20260420T024908
CREATED:20250709T085930Z
LAST-MODIFIED:20250709T090306Z
UID:8972-1753210800-1753215300@penworthamurc.org.uk
SUMMARY:PURC -  Community Choir
DESCRIPTION:Penwortham URC – Community Choir will have an extra practice session on 22 July 2025 – 7:00-8:15 pm.
URL:https://penworthamurc.org.uk/event/purc-community-choir-5/
CATEGORIES:Church Activities,Community Activities
END:VEVENT
BEGIN:VEVENT
DTSTART;TZID=Europe/London:20250723T190000
DTEND;TZID=Europe/London:20250723T210000
DTSTAMP:20260420T024908
CREATED:20250528T183343Z
LAST-MODIFIED:20250530T123021Z
UID:8814-1753297200-1753304400@penworthamurc.org.uk
SUMMARY:One Voice Community Choir - Choral Evening - in aid of Penwortham Foodbank
DESCRIPTION:“FED WITH HARMONY” CHORAL EVENING WITH THE ONE VOICE COMMUNITY CHOIR\nADMISSION FREE + FOOD DONATIONS Click the Event Title above and then the Poster Icon for information. \n 
URL:https://penworthamurc.org.uk/event/one-voice-community-choir-choral-evening-in-aid-of-penwortham-foodbank/
CATEGORIES:Church Activities,Community Activities
END:VEVENT
BEGIN:VEVENT
DTSTART;TZID=Europe/London:20250727T103000
DTEND;TZID=Europe/London:20250727T113000
DTSTAMP:20260420T024908
CREATED:20250528T181556Z
LAST-MODIFIED:20250528T182305Z
UID:8803-1753612200-1753615800@penworthamurc.org.uk
SUMMARY:Family Worship
DESCRIPTION:Led by Rev’d Brian Drury
URL:https://penworthamurc.org.uk/event/family-worship-59/
LOCATION:PURC
CATEGORIES:Church Activities
END:VEVENT
BEGIN:VEVENT
DTSTART;TZID=Europe/London:20250730T190000
DTEND;TZID=Europe/London:20250730T201500
DTSTAMP:20260420T024908
CREATED:20250530T124311Z
LAST-MODIFIED:20250530T124413Z
UID:8893-1753902000-1753906500@penworthamurc.org.uk
SUMMARY:PURC -  Community Choir
DESCRIPTION:Penwortham URC – Community Choir on Wednesday 30th July 7:00-8:15 pm. Click on Event Title above and then the Poster Icon that appears for details. \n 
URL:https://penworthamurc.org.uk/event/purc-community-choir-3/
CATEGORIES:Church Activities,Community Activities
END:VEVENT
BEGIN:VEVENT
DTSTART;TZID=Europe/London:20250803T103000
DTEND;TZID=Europe/London:20250803T233000
DTSTAMP:20260420T024908
CREATED:20250709T091426Z
LAST-MODIFIED:20250709T091624Z
UID:8975-1754217000-1754263800@penworthamurc.org.uk
SUMMARY:Family Worship with the Sacrament of Holy Communion
DESCRIPTION:Led by Margery Pitcher \nFollowed by refreshments  \n  \n  \n 
URL:https://penworthamurc.org.uk/event/family-worship-with-the-sacrament-of-holy-communion-27/
LOCATION:PURC
CATEGORIES:Church Activities,Special Services
END:VEVENT
BEGIN:VEVENT
DTSTART;TZID=Europe/London:20250810T103000
DTEND;TZID=Europe/London:20250810T113000
DTSTAMP:20260420T024908
CREATED:20250709T091726Z
LAST-MODIFIED:20250709T091941Z
UID:8977-1754821800-1754825400@penworthamurc.org.uk
SUMMARY:Family Worship
DESCRIPTION:Led by Rev’d Brian Drury \n 
URL:https://penworthamurc.org.uk/event/family-worship-60/
LOCATION:PURC
CATEGORIES:Church Activities
END:VEVENT
BEGIN:VEVENT
DTSTART;TZID=Europe/London:20250817T103000
DTEND;TZID=Europe/London:20250817T113000
DTSTAMP:20260420T024908
CREATED:20250709T091741Z
LAST-MODIFIED:20250709T092046Z
UID:8978-1755426600-1755430200@penworthamurc.org.uk
SUMMARY:Family Worship
DESCRIPTION:Led by Alan Edward \nFollowed by Refreshments
URL:https://penworthamurc.org.uk/event/family-worship-61/
LOCATION:PURC
CATEGORIES:Church Activities
END:VEVENT
BEGIN:VEVENT
DTSTART;TZID=Europe/London:20250819T190000
DTEND;TZID=Europe/London:20250819T201500
DTSTAMP:20260420T024908
CREATED:20250530T124423Z
LAST-MODIFIED:20250530T124524Z
UID:8895-1755630000-1755634500@penworthamurc.org.uk
SUMMARY:PURC -  Community Choir
DESCRIPTION:Penwortham URC – Community Choir on Tuesday 19th August 7:00-8:15 pm. Click on Event Title above and then the Poster Icon that appears for details. \n 
URL:https://penworthamurc.org.uk/event/purc-community-choir-4/
CATEGORIES:Church Activities,Community Activities
END:VEVENT
BEGIN:VEVENT
DTSTART;TZID=Europe/London:20250824T103000
DTEND;TZID=Europe/London:20250824T113000
DTSTAMP:20260420T024908
CREATED:20250709T091753Z
LAST-MODIFIED:20250709T092203Z
UID:8979-1756031400-1756035000@penworthamurc.org.uk
SUMMARY:Family Worship
DESCRIPTION:Led by Rev’d Jennifer Liddell \n 
URL:https://penworthamurc.org.uk/event/family-worship-62/
LOCATION:PURC
CATEGORIES:Church Activities
END:VEVENT
BEGIN:VEVENT
DTSTART;TZID=Europe/London:20250831T103000
DTEND;TZID=Europe/London:20250831T113000
DTSTAMP:20260420T024908
CREATED:20250709T091801Z
LAST-MODIFIED:20250709T092352Z
UID:8980-1756636200-1756639800@penworthamurc.org.uk
SUMMARY:Family Worship
DESCRIPTION:Led by Rev’d Frank Kendall \n 
URL:https://penworthamurc.org.uk/event/family-worship-63/
LOCATION:PURC
CATEGORIES:Church Activities
END:VEVENT
BEGIN:VEVENT
DTSTART;TZID=Europe/London:20250907T103000
DTEND;TZID=Europe/London:20250907T113000
DTSTAMP:20260420T024908
CREATED:20250830T103618Z
LAST-MODIFIED:20250830T160925Z
UID:9000-1757241000-1757244600@penworthamurc.org.uk
SUMMARY:Missional Partnership Joint Service
DESCRIPTION:Led bythe Elders \nFollowed by Refreshments
URL:https://penworthamurc.org.uk/event/missional-partnership-joint-service/
LOCATION:PURC
CATEGORIES:Church Activities,Special Services
END:VEVENT
BEGIN:VEVENT
DTSTART;TZID=Europe/London:20250908T103000
DTEND;TZID=Europe/London:20250908T120000
DTSTAMP:20260420T024908
CREATED:20250830T112923Z
LAST-MODIFIED:20250830T160811Z
UID:9023-1757327400-1757332800@penworthamurc.org.uk
SUMMARY:Coffee Morning at URC Penwortham Monday 8 September 10:30 - 12:00
DESCRIPTION:All welcome to discuss community events and projects you wish to see happening. Click Icon
URL:https://penworthamurc.org.uk/event/coffee-morning-at-urc-penwortham-monday-8-september-1030-1200/
CATEGORIES:Church Activities,Community Activities
END:VEVENT
BEGIN:VEVENT
DTSTART;TZID=Europe/London:20250914T103000
DTEND;TZID=Europe/London:20250914T113000
DTSTAMP:20260420T024908
CREATED:20250709T091830Z
LAST-MODIFIED:20250830T160725Z
UID:8982-1757845800-1757849400@penworthamurc.org.uk
SUMMARY:Family Worship and Parade Service - with 5th Penwortham Scout Group
DESCRIPTION:Led by George Grime \n 
URL:https://penworthamurc.org.uk/event/family-worship-and-parade-service-with-5th-penwortham-scout-group-12/
LOCATION:PURC
CATEGORIES:Church Activities,Special Services
END:VEVENT
BEGIN:VEVENT
DTSTART;TZID=Europe/London:20250916T140000
DTEND;TZID=Europe/London:20250916T150000
DTSTAMP:20260420T024908
CREATED:20250904T120230Z
LAST-MODIFIED:20250904T120230Z
UID:9076-1758031200-1758034800@penworthamurc.org.uk
SUMMARY:Tiger Tots Music Club
DESCRIPTION:Babies and Toddlers fun music sessions see Home Page for latest details
URL:https://penworthamurc.org.uk/event/tiger-tots-music-club/
CATEGORIES:Church Activities,Community Activities
END:VEVENT
BEGIN:VEVENT
DTSTART;TZID=Europe/London:20250921T103000
DTEND;TZID=Europe/London:20250921T113000
DTSTAMP:20260420T024908
CREATED:20250830T104221Z
LAST-MODIFIED:20250830T104544Z
UID:9006-1758450600-1758454200@penworthamurc.org.uk
SUMMARY:Family Worship
DESCRIPTION:Led by Jim Wilson \nFollowed by refreshments \n 
URL:https://penworthamurc.org.uk/event/family-worship-64/
LOCATION:PURC
CATEGORIES:Church Activities
END:VEVENT
BEGIN:VEVENT
DTSTART;TZID=Europe/London:20250923T190000
DTEND;TZID=Europe/London:20250923T201500
DTSTAMP:20260420T024908
CREATED:20250830T102609Z
LAST-MODIFIED:20250830T102946Z
UID:8996-1758654000-1758658500@penworthamurc.org.uk
SUMMARY:PURC -  Community Choir
DESCRIPTION:Penwortham URC – Community Choir on Tuesday 23 September 7:00-8:15 pm. for info contact Katie penworthamurcgamilyworker@gmail.com \n 
URL:https://penworthamurc.org.uk/event/purc-community-choir-6/
CATEGORIES:Church Activities,Community Activities
END:VEVENT
BEGIN:VEVENT
DTSTART;TZID=Europe/London:20250927T143000
DTEND;TZID=Europe/London:20250927T163000
DTSTAMP:20260420T024908
CREATED:20250904T180729Z
LAST-MODIFIED:20250904T181841Z
UID:9082-1758983400-1758990600@penworthamurc.org.uk
SUMMARY:Messy Church - 2.30pm Saturday 27 September
DESCRIPTION:The next Messy Church will be held on Saturday 27th September at 2.30 – 4.30 pm. Click on Title and then the poster icon for details. The “Messy Church” Name and Logo are registered trademarks of Bible Reading Fellowship (BRF)\, a charity (22380) and company limited by guarantee (301324)\, registered in England and Wales. \n  \n 
URL:https://penworthamurc.org.uk/event/messy-church-2-30pm-saturday-27-september/
LOCATION:PURC
CATEGORIES:Church Activities,Community Activities
END:VEVENT
END:VCALENDAR