BEGIN:VCALENDAR
VERSION:2.0
PRODID:-//Penwortham United Reformed Church - ECPv6.15.20//NONSGML v1.0//EN
CALSCALE:GREGORIAN
METHOD:PUBLISH
X-WR-CALNAME:Penwortham United Reformed Church
X-ORIGINAL-URL:https://penworthamurc.org.uk
X-WR-CALDESC:Events for Penwortham United Reformed Church
REFRESH-INTERVAL;VALUE=DURATION:PT1H
X-Robots-Tag:noindex
X-PUBLISHED-TTL:PT1H
BEGIN:VTIMEZONE
TZID:Europe/London
BEGIN:DAYLIGHT
TZOFFSETFROM:+0000
TZOFFSETTO:+0100
TZNAME:BST
DTSTART:20220327T010000
END:DAYLIGHT
BEGIN:STANDARD
TZOFFSETFROM:+0100
TZOFFSETTO:+0000
TZNAME:GMT
DTSTART:20221030T010000
END:STANDARD
BEGIN:DAYLIGHT
TZOFFSETFROM:+0000
TZOFFSETTO:+0100
TZNAME:BST
DTSTART:20230326T010000
END:DAYLIGHT
BEGIN:STANDARD
TZOFFSETFROM:+0100
TZOFFSETTO:+0000
TZNAME:GMT
DTSTART:20231029T010000
END:STANDARD
BEGIN:DAYLIGHT
TZOFFSETFROM:+0000
TZOFFSETTO:+0100
TZNAME:BST
DTSTART:20240331T010000
END:DAYLIGHT
BEGIN:STANDARD
TZOFFSETFROM:+0100
TZOFFSETTO:+0000
TZNAME:GMT
DTSTART:20241027T010000
END:STANDARD
BEGIN:DAYLIGHT
TZOFFSETFROM:+0000
TZOFFSETTO:+0100
TZNAME:BST
DTSTART:20250330T010000
END:DAYLIGHT
BEGIN:STANDARD
TZOFFSETFROM:+0100
TZOFFSETTO:+0000
TZNAME:GMT
DTSTART:20251026T010000
END:STANDARD
BEGIN:DAYLIGHT
TZOFFSETFROM:+0000
TZOFFSETTO:+0100
TZNAME:BST
DTSTART:20260329T010000
END:DAYLIGHT
BEGIN:STANDARD
TZOFFSETFROM:+0100
TZOFFSETTO:+0000
TZNAME:GMT
DTSTART:20261025T010000
END:STANDARD
END:VTIMEZONE
BEGIN:VEVENT
DTSTART;TZID=Europe/London:20230425T093000
DTEND;TZID=Europe/London:20230425T113000
DTSTAMP:20260421T223915
CREATED:20230302T141954Z
LAST-MODIFIED:20230302T142016Z
UID:7461-1682415000-1682422200@penworthamurc.org.uk
SUMMARY:Babyballet Tuesdays 9.30-11.30 am
DESCRIPTION:Babyballet\, fun music to movement classes for children 18 months to 5 years.\nClasses every Tuesday Morning; £18.00 for a 3 week trial.\ne-mail : liverpoolcentral@babyballet.co.uk\nTel       : 01517221987\nWeb    : www.babyballet.co.uk
URL:https://penworthamurc.org.uk/event/babyballet-tuesdays-9-30-11-30-am-8/
CATEGORIES:Community Activities
END:VEVENT
BEGIN:VEVENT
DTSTART;TZID=Europe/London:20230424T140000
DTEND;TZID=Europe/London:20230424T160000
DTSTAMP:20260421T223915
CREATED:20230320T191941Z
LAST-MODIFIED:20230412T182226Z
UID:7507-1682344800-1682352000@penworthamurc.org.uk
SUMMARY:Community Social Event
DESCRIPTION:On Monday 24 April at 2.00pm\, Steve Williams will present a talk on “Unsung Lancastrians”. He says “there have been many men and women in the County over the years whose stories have never been told-from entrepreneurs\, Suffragettes\, social campaigners\, newspaper editors\, soldiers and even a President of FIFA”.  Cost £4.00 with refreshments
URL:https://penworthamurc.org.uk/event/community-social-event-3/
CATEGORIES:Church Activities,Community Activities
END:VEVENT
BEGIN:VEVENT
DTSTART;TZID=Europe/London:20230423T103000
DTEND;TZID=Europe/London:20230423T113000
DTSTAMP:20260421T223915
CREATED:20230302T135429Z
LAST-MODIFIED:20230418T210912Z
UID:7432-1682245800-1682249400@penworthamurc.org.uk
SUMMARY:Family Worship
DESCRIPTION:Led by   Hylda Hurst
URL:https://penworthamurc.org.uk/event/family-worship-2/
LOCATION:PURC
CATEGORIES:Church Activities
END:VEVENT
BEGIN:VEVENT
DTSTART;TZID=Europe/London:20230418T093000
DTEND;TZID=Europe/London:20230418T113000
DTSTAMP:20260421T223915
CREATED:20230302T141919Z
LAST-MODIFIED:20230302T141948Z
UID:7459-1681810200-1681817400@penworthamurc.org.uk
SUMMARY:Babyballet Tuesdays 9.30-11.30 am
DESCRIPTION:Babyballet\, fun music to movement classes for children 18 months to 5 years.\nClasses every Tuesday Morning; £18.00 for a 3 week trial.\ne-mail : liverpoolcentral@babyballet.co.uk\nTel       : 01517221987\nWeb    : www.babyballet.co.uk
URL:https://penworthamurc.org.uk/event/babyballet-tuesdays-9-30-11-30-am-7/
CATEGORIES:Community Activities
END:VEVENT
BEGIN:VEVENT
DTSTART;TZID=Europe/London:20230416T103000
DTEND;TZID=Europe/London:20230416T113000
DTSTAMP:20260421T223915
CREATED:20230302T135434Z
LAST-MODIFIED:20230402T184631Z
UID:7433-1681641000-1681644600@penworthamurc.org.uk
SUMMARY:Family Worship and PURC AGM
DESCRIPTION:Led by    The Elders
URL:https://penworthamurc.org.uk/event/family-worship/
LOCATION:PURC
CATEGORIES:Church Activities
END:VEVENT
BEGIN:VEVENT
DTSTART;TZID=Europe/London:20230415T103000
DTEND;TZID=Europe/London:20230415T123000
DTSTAMP:20260421T223915
CREATED:20230302T141039Z
LAST-MODIFIED:20230302T141150Z
UID:7443-1681554600-1681561800@penworthamurc.org.uk
SUMMARY:Penwortham Bead Group 10:30 - 12:30  ON 3RD SATURDAY OF EACH MONTH
DESCRIPTION:Led by Esther Turner   07855143050\, meets 3rd Saturday of each month\n£5.00 per session in Church Hall attached to the Church \nCome and see what we are about. Have a chat\, a laugh and get help on your project if needed. Have a coffee/tea and cake. Bring your own cup. The more the merrier. Looking forward to seeing you
URL:https://penworthamurc.org.uk/event/penwortham-bead-group-1030-1230-on-3rd-saturday-of-each-month/
CATEGORIES:Community Activities
END:VEVENT
BEGIN:VEVENT
DTSTART;TZID=Europe/London:20230411T093000
DTEND;TZID=Europe/London:20230411T113000
DTSTAMP:20260421T223915
CREATED:20230302T141846Z
LAST-MODIFIED:20230302T141909Z
UID:7457-1681205400-1681212600@penworthamurc.org.uk
SUMMARY:Babyballet Tuesdays 9.30-11.30 am
DESCRIPTION:Babyballet\, fun music to movement classes for children 18 months to 5 years.\nClasses every Tuesday Morning; £18.00 for a 3 week trial.\ne-mail : liverpoolcentral@babyballet.co.uk\nTel       : 01517221987\nWeb    : www.babyballet.co.uk
URL:https://penworthamurc.org.uk/event/babyballet-tuesdays-9-30-11-30-am-6/
CATEGORIES:Community Activities
END:VEVENT
BEGIN:VEVENT
DTSTART;TZID=Europe/London:20230409T103000
DTEND;TZID=Europe/London:20230409T113000
DTSTAMP:20260421T223915
CREATED:20230402T185122Z
LAST-MODIFIED:20230402T185238Z
UID:7534-1681036200-1681039800@penworthamurc.org.uk
SUMMARY:Easter Family Worship with the Sacrament of Holy Communion
DESCRIPTION:Led by Robert Bulloch
URL:https://penworthamurc.org.uk/event/easter-family-worship-with-the-sacrament-of-holy-communion/
LOCATION:PURC
CATEGORIES:Church Activities,Special Services
END:VEVENT
BEGIN:VEVENT
DTSTART;TZID=Europe/London:20230407T100000
DTEND;TZID=Europe/London:20230407T120000
DTSTAMP:20260421T223915
CREATED:20230302T155132Z
LAST-MODIFIED:20230304T164958Z
UID:7492-1680861600-1680868800@penworthamurc.org.uk
SUMMARY:Good Friday Ecumenical Walk of Witness and Act of Worship
DESCRIPTION:This years Ecumenical Good Friday Walk of Witness and Act of Worship will be held at Penwortham Methodist Church (see our Home Page) with the Walk of Witness from 10.00am and the Act of Worship at 11.00am
URL:https://penworthamurc.org.uk/event/good-friday-ecumenical-walk-of-witness-and-act-of-worship/
CATEGORIES:Church Activities,Special Services
END:VEVENT
BEGIN:VEVENT
DTSTART;TZID=Europe/London:20230406T193000
DTEND;TZID=Europe/London:20230406T203000
DTSTAMP:20260421T223915
CREATED:20230302T140409Z
LAST-MODIFIED:20230403T153211Z
UID:7441-1680809400-1680813000@penworthamurc.org.uk
SUMMARY:Maundy Thursday Evening Worship -7.30pm
DESCRIPTION:Led by James Mawdsley
URL:https://penworthamurc.org.uk/event/maundy-thursday-evening-worship-7-30pm/
CATEGORIES:Church Activities,Special Services
END:VEVENT
BEGIN:VEVENT
DTSTART;TZID=Europe/London:20230404T093000
DTEND;TZID=Europe/London:20230404T113000
DTSTAMP:20260421T223915
CREATED:20230302T141746Z
LAST-MODIFIED:20230302T141831Z
UID:7455-1680600600-1680607800@penworthamurc.org.uk
SUMMARY:Babyballet Tuesdays 9.30-11.30 am
DESCRIPTION:Babyballet\, fun music to movement classes for children 18 months to 5 years.\nClasses every Tuesday Morning; £18.00 for a 3 week trial.\ne-mail : liverpoolcentral@babyballet.co.uk\nTel       : 01517221987\nWeb    : www.babyballet.co.uk
URL:https://penworthamurc.org.uk/event/babyballet-tuesdays-9-30-11-30-am-5/
CATEGORIES:Community Activities
END:VEVENT
BEGIN:VEVENT
DTSTART;TZID=Europe/London:20230402T150000
DTEND;TZID=Europe/London:20230402T160000
DTSTAMP:20260421T223915
CREATED:20230302T135441Z
LAST-MODIFIED:20230403T143125Z
UID:7434-1680447600-1680451200@penworthamurc.org.uk
SUMMARY:Family Worship
DESCRIPTION:Led by Rev’d Martin Whiffen. Note time change to 3.00pm
URL:https://penworthamurc.org.uk/event/family-worship-6/
LOCATION:PURC
CATEGORIES:Church Activities,Special Services
END:VEVENT
BEGIN:VEVENT
DTSTART;VALUE=DATE:20250614
DTEND;VALUE=DATE:20250615
DTSTAMP:20260421T223915
CREATED:20220609T182616Z
LAST-MODIFIED:20250528T184550Z
UID:6888-1749859200-1749945599@penworthamurc.org.uk
SUMMARY:Penwortham Gala - 14th/15th June 2025 - Hurst Grange Park inc. Ecumenical Service on 15 June
DESCRIPTION:Penwortham Gala organised by Penwortham Town Council will take place on the 14/15 June 2025. See the  Penwortham Town Council for details.
URL:https://penworthamurc.org.uk/event/penwortham-gala-14th-15th-june-2025-hurst-grange-park-inc-ecumenical-service-on-15-june/
CATEGORIES:Community Activities
END:VEVENT
END:VCALENDAR