BEGIN:VCALENDAR
VERSION:2.0
PRODID:-//Penwortham United Reformed Church - ECPv6.15.20//NONSGML v1.0//EN
CALSCALE:GREGORIAN
METHOD:PUBLISH
X-WR-CALNAME:Penwortham United Reformed Church
X-ORIGINAL-URL:https://penworthamurc.org.uk
X-WR-CALDESC:Events for Penwortham United Reformed Church
REFRESH-INTERVAL;VALUE=DURATION:PT1H
X-Robots-Tag:noindex
X-PUBLISHED-TTL:PT1H
BEGIN:VTIMEZONE
TZID:Europe/London
BEGIN:DAYLIGHT
TZOFFSETFROM:+0000
TZOFFSETTO:+0100
TZNAME:BST
DTSTART:20220327T010000
END:DAYLIGHT
BEGIN:STANDARD
TZOFFSETFROM:+0100
TZOFFSETTO:+0000
TZNAME:GMT
DTSTART:20221030T010000
END:STANDARD
BEGIN:DAYLIGHT
TZOFFSETFROM:+0000
TZOFFSETTO:+0100
TZNAME:BST
DTSTART:20230326T010000
END:DAYLIGHT
BEGIN:STANDARD
TZOFFSETFROM:+0100
TZOFFSETTO:+0000
TZNAME:GMT
DTSTART:20231029T010000
END:STANDARD
BEGIN:DAYLIGHT
TZOFFSETFROM:+0000
TZOFFSETTO:+0100
TZNAME:BST
DTSTART:20240331T010000
END:DAYLIGHT
BEGIN:STANDARD
TZOFFSETFROM:+0100
TZOFFSETTO:+0000
TZNAME:GMT
DTSTART:20241027T010000
END:STANDARD
BEGIN:DAYLIGHT
TZOFFSETFROM:+0000
TZOFFSETTO:+0100
TZNAME:BST
DTSTART:20250330T010000
END:DAYLIGHT
BEGIN:STANDARD
TZOFFSETFROM:+0100
TZOFFSETTO:+0000
TZNAME:GMT
DTSTART:20251026T010000
END:STANDARD
BEGIN:DAYLIGHT
TZOFFSETFROM:+0000
TZOFFSETTO:+0100
TZNAME:BST
DTSTART:20260329T010000
END:DAYLIGHT
BEGIN:STANDARD
TZOFFSETFROM:+0100
TZOFFSETTO:+0000
TZNAME:GMT
DTSTART:20261025T010000
END:STANDARD
END:VTIMEZONE
BEGIN:VEVENT
DTSTART;TZID=Europe/London:20230611T110000
DTEND;TZID=Europe/London:20230611T120000
DTSTAMP:20260421T192241
CREATED:20230429T104511Z
LAST-MODIFIED:20230529T143345Z
UID:7617-1686481200-1686484800@penworthamurc.org.uk
SUMMARY:Ecumenical Penwortham Gala Service - Hurst Grange Park
DESCRIPTION:If raining the service will be held at Penwortham United Reformed Church\, Liverpool Road at 11.00am .
URL:https://penworthamurc.org.uk/event/family-worship-7/
LOCATION:PURC
CATEGORIES:Church Activities
END:VEVENT
BEGIN:VEVENT
DTSTART;TZID=Europe/London:20230606T093000
DTEND;TZID=Europe/London:20230606T113000
DTSTAMP:20260421T192241
CREATED:20230429T105049Z
LAST-MODIFIED:20230603T211848Z
UID:7623-1686043800-1686051000@penworthamurc.org.uk
SUMMARY:Babyballet Tuesdays 9.30-10.30 am
DESCRIPTION:Babyballet\, fun music to movement classes for children 18 months to 5 years.\nClasses every Tuesday Morning; £18.00 for a 3 week trial.\ne-mail : liverpoolcentral@babyballet.co.uk\nTel       : 01517221987\nWeb    : www.babyballet.co.uk
URL:https://penworthamurc.org.uk/event/babyballet-tuesdays-9-30-11-30/
CATEGORIES:Community Activities
END:VEVENT
BEGIN:VEVENT
DTSTART;TZID=Europe/London:20230604T103000
DTEND;TZID=Europe/London:20230604T113000
DTSTAMP:20260421T192241
CREATED:20230429T102825Z
LAST-MODIFIED:20230429T102919Z
UID:7615-1685874600-1685878200@penworthamurc.org.uk
SUMMARY:Family Worship with the Sacrament of Holy Communion
DESCRIPTION:Led by Jennifer Liddell
URL:https://penworthamurc.org.uk/event/family-worship-with-the-sacrament-of-holy-communion/
LOCATION:PURC
CATEGORIES:Church Activities,Special Services
END:VEVENT
BEGIN:VEVENT
DTSTART;TZID=Europe/London:20230530T093000
DTEND;TZID=Europe/London:20230530T113000
DTSTAMP:20260421T192241
CREATED:20230302T142956Z
LAST-MODIFIED:20230302T143014Z
UID:7473-1685439000-1685446200@penworthamurc.org.uk
SUMMARY:Babyballet Tuesdays 9.30-11.30 am
DESCRIPTION:Babyballet\, fun music to movement classes for children 18 months to 5 years.\nClasses every Tuesday Morning; £18.00 for a 3 week trial.\ne-mail : liverpoolcentral@babyballet.co.uk\nTel       : 01517221987\nWeb    : www.babyballet.co.uk
URL:https://penworthamurc.org.uk/event/babyballet-tuesdays-9-30-11-30-am-13/
CATEGORIES:Community Activities
END:VEVENT
BEGIN:VEVENT
DTSTART;TZID=Europe/London:20230528T103000
DTEND;TZID=Europe/London:20230528T113000
DTSTAMP:20260421T192241
CREATED:20230402T185921Z
LAST-MODIFIED:20230514T105305Z
UID:7538-1685269800-1685273400@penworthamurc.org.uk
SUMMARY:Family Worship
DESCRIPTION:Led by   TBA
URL:https://penworthamurc.org.uk/event/family-worship-4/
LOCATION:PURC
CATEGORIES:Church Activities
END:VEVENT
BEGIN:VEVENT
DTSTART;TZID=Europe/London:20230523T093000
DTEND;TZID=Europe/London:20230523T113000
DTSTAMP:20260421T192241
CREATED:20230302T142443Z
LAST-MODIFIED:20230302T142717Z
UID:7465-1684834200-1684841400@penworthamurc.org.uk
SUMMARY:Babyballet Tuesdays 9.30-11.30 am
DESCRIPTION:Babyballet\, fun music to movement classes for children 18 months to 5 years.\nClasses every Tuesday Morning; £18.00 for a 3 week trial.\ne-mail : liverpoolcentral@babyballet.co.uk\nTel       : 01517221987\nWeb    : www.babyballet.co.uk
URL:https://penworthamurc.org.uk/event/babyballet-tuesdays-9-30-11-30-am-12/
CATEGORIES:Community Activities
END:VEVENT
BEGIN:VEVENT
DTSTART;TZID=Europe/London:20230521T103000
DTEND;TZID=Europe/London:20230521T113000
DTSTAMP:20260421T192241
CREATED:20230302T142749Z
LAST-MODIFIED:20230514T105216Z
UID:7471-1684665000-1684668600@penworthamurc.org.uk
SUMMARY:Family Worship
DESCRIPTION:Led by    TBA
URL:https://penworthamurc.org.uk/event/family-worship-3/
LOCATION:PURC
CATEGORIES:Church Activities
END:VEVENT
BEGIN:VEVENT
DTSTART;TZID=Europe/London:20230520T103000
DTEND;TZID=Europe/London:20230520T123000
DTSTAMP:20260421T192241
CREATED:20230302T141207Z
LAST-MODIFIED:20230302T141254Z
UID:7445-1684578600-1684585800@penworthamurc.org.uk
SUMMARY:Penwortham Bead Group 10:30 - 12:30 ON 3RD SATURDAY OF EACH MONTH
DESCRIPTION:Led by Esther Turner   07855143050\, meets 3rd Saturday of each month\n£5.00 per session in Church Hall attached to the Church \nCome and see what we are about. Have a chat\, a laugh and get help on your project if needed. Have a coffee/tea and cake. Bring your own cup. The more the merrier. Looking forward to seeing you
URL:https://penworthamurc.org.uk/event/penwortham-bead-group-1030-1230-on-3rd-saturday-of-each-month-2/
CATEGORIES:Community Activities
END:VEVENT
BEGIN:VEVENT
DTSTART;TZID=Europe/London:20230516T093000
DTEND;TZID=Europe/London:20230516T113000
DTSTAMP:20260421T192241
CREATED:20230302T142435Z
LAST-MODIFIED:20230302T142645Z
UID:7464-1684229400-1684236600@penworthamurc.org.uk
SUMMARY:Babyballet Tuesdays 9.30-11.30 am
DESCRIPTION:Babyballet\, fun music to movement classes for children 18 months to 5 years.\nClasses every Tuesday Morning; £18.00 for a 3 week trial.\ne-mail : liverpoolcentral@babyballet.co.uk\nTel       : 01517221987\nWeb    : www.babyballet.co.uk
URL:https://penworthamurc.org.uk/event/babyballet-tuesdays-9-30-11-30-am-11/
CATEGORIES:Community Activities
END:VEVENT
BEGIN:VEVENT
DTSTART;TZID=Europe/London:20230515T140000
DTEND;TZID=Europe/London:20230515T160000
DTSTAMP:20260421T192241
CREATED:20230423T123503Z
LAST-MODIFIED:20230423T123750Z
UID:7609-1684159200-1684166400@penworthamurc.org.uk
SUMMARY:Community Social Event - All Welcome
DESCRIPTION:On Monday 15 May 2023 at 2.00pm\, a representative from International Aid Trust based in Chorley will give a talk on their work in a number of countries in the world.   Cost £4.00 with refreshments
URL:https://penworthamurc.org.uk/event/community-social-event-4/
CATEGORIES:Church Activities,Community Activities
END:VEVENT
BEGIN:VEVENT
DTSTART;TZID=Europe/London:20230514T103000
DTEND;TZID=Europe/London:20230514T113000
DTSTAMP:20260421T192241
CREATED:20230402T185347Z
LAST-MODIFIED:20230402T185731Z
UID:7536-1684060200-1684063800@penworthamurc.org.uk
SUMMARY:Parade Service - 5th Penwortham Scout Group
DESCRIPTION:Led by Leo Roberts
URL:https://penworthamurc.org.uk/event/parade-service-5th-penwortham-scout-group/
LOCATION:PURC
CATEGORIES:Church Activities,Community Activities,Special Services
END:VEVENT
BEGIN:VEVENT
DTSTART;TZID=Europe/London:20230509T093000
DTEND;TZID=Europe/London:20230509T113000
DTSTAMP:20260421T192241
CREATED:20230302T142428Z
LAST-MODIFIED:20230302T142608Z
UID:7463-1683624600-1683631800@penworthamurc.org.uk
SUMMARY:Babyballet Tuesdays 9.30-11.30 am
DESCRIPTION:Babyballet\, fun music to movement classes for children 18 months to 5 years.\nClasses every Tuesday Morning; £18.00 for a 3 week trial.\ne-mail : liverpoolcentral@babyballet.co.uk\nTel       : 01517221987\nWeb    : www.babyballet.co.uk
URL:https://penworthamurc.org.uk/event/babyballet-tuesdays-9-30-11-30-am-10/
CATEGORIES:Community Activities
END:VEVENT
BEGIN:VEVENT
DTSTART;TZID=Europe/London:20230507T103000
DTEND;TZID=Europe/London:20230507T113000
DTSTAMP:20260421T192241
CREATED:20230302T135942Z
LAST-MODIFIED:20230504T123756Z
UID:7439-1683455400-1683459000@penworthamurc.org.uk
SUMMARY:Family Worship with the Sacrament of Holy Communion and Coronation Picnic Lunch
DESCRIPTION:Led by Rev’d Anton Muller \nFollowed by a Bring Your Own “picnic” lunch in celebration of the Coronation of King Charles III and Queen Camilla
URL:https://penworthamurc.org.uk/event/family-worship-with-the-sacrament-of-holy-communion-2/
LOCATION:PURC
CATEGORIES:Church Activities,Special Services
END:VEVENT
BEGIN:VEVENT
DTSTART;TZID=Europe/London:20230502T093000
DTEND;TZID=Europe/London:20230502T113000
DTSTAMP:20260421T192241
CREATED:20230302T142451Z
LAST-MODIFIED:20230302T142532Z
UID:7466-1683019800-1683027000@penworthamurc.org.uk
SUMMARY:Babyballet Tuesdays 9.30-11.30 am
DESCRIPTION:Babyballet\, fun music to movement classes for children 18 months to 5 years.\nClasses every Tuesday Morning; £18.00 for a 3 week trial.\ne-mail : liverpoolcentral@babyballet.co.uk\nTel       : 01517221987\nWeb    : www.babyballet.co.uk
URL:https://penworthamurc.org.uk/event/babyballet-tuesdays-9-30-11-30-am-9/
CATEGORIES:Community Activities
END:VEVENT
BEGIN:VEVENT
DTSTART;TZID=Europe/London:20230430T103000
DTEND;TZID=Europe/London:20230430T113000
DTSTAMP:20260421T192241
CREATED:20230403T142441Z
LAST-MODIFIED:20230403T142718Z
UID:7553-1682850600-1682854200@penworthamurc.org.uk
SUMMARY:Family Worship
DESCRIPTION:Led by  Gill Turner
URL:https://penworthamurc.org.uk/event/family-worship-5/
LOCATION:PURC
CATEGORIES:Church Activities
END:VEVENT
BEGIN:VEVENT
DTSTART;TZID=Europe/London:20230426T183000
DTEND;TZID=Europe/London:20230426T210000
DTSTAMP:20260421T192241
CREATED:20230412T155140Z
LAST-MODIFIED:20230412T155304Z
UID:7592-1682533800-1682542800@penworthamurc.org.uk
SUMMARY:Preaching Tips Event
DESCRIPTION:A talk for those who would like some practical preaching tips from a preacher/comedian – Andy Kind.  Starts 7.00pm – refreshments from 6.30pm
URL:https://penworthamurc.org.uk/event/preaching-tips-event/
CATEGORIES:Church Activities
END:VEVENT
BEGIN:VEVENT
DTSTART;TZID=Europe/London:20230425T093000
DTEND;TZID=Europe/London:20230425T113000
DTSTAMP:20260421T192241
CREATED:20230302T141954Z
LAST-MODIFIED:20230302T142016Z
UID:7461-1682415000-1682422200@penworthamurc.org.uk
SUMMARY:Babyballet Tuesdays 9.30-11.30 am
DESCRIPTION:Babyballet\, fun music to movement classes for children 18 months to 5 years.\nClasses every Tuesday Morning; £18.00 for a 3 week trial.\ne-mail : liverpoolcentral@babyballet.co.uk\nTel       : 01517221987\nWeb    : www.babyballet.co.uk
URL:https://penworthamurc.org.uk/event/babyballet-tuesdays-9-30-11-30-am-8/
CATEGORIES:Community Activities
END:VEVENT
BEGIN:VEVENT
DTSTART;TZID=Europe/London:20230424T140000
DTEND;TZID=Europe/London:20230424T160000
DTSTAMP:20260421T192241
CREATED:20230320T191941Z
LAST-MODIFIED:20230412T182226Z
UID:7507-1682344800-1682352000@penworthamurc.org.uk
SUMMARY:Community Social Event
DESCRIPTION:On Monday 24 April at 2.00pm\, Steve Williams will present a talk on “Unsung Lancastrians”. He says “there have been many men and women in the County over the years whose stories have never been told-from entrepreneurs\, Suffragettes\, social campaigners\, newspaper editors\, soldiers and even a President of FIFA”.  Cost £4.00 with refreshments
URL:https://penworthamurc.org.uk/event/community-social-event-3/
CATEGORIES:Church Activities,Community Activities
END:VEVENT
BEGIN:VEVENT
DTSTART;TZID=Europe/London:20230423T103000
DTEND;TZID=Europe/London:20230423T113000
DTSTAMP:20260421T192241
CREATED:20230302T135429Z
LAST-MODIFIED:20230418T210912Z
UID:7432-1682245800-1682249400@penworthamurc.org.uk
SUMMARY:Family Worship
DESCRIPTION:Led by   Hylda Hurst
URL:https://penworthamurc.org.uk/event/family-worship-2/
LOCATION:PURC
CATEGORIES:Church Activities
END:VEVENT
BEGIN:VEVENT
DTSTART;TZID=Europe/London:20230418T093000
DTEND;TZID=Europe/London:20230418T113000
DTSTAMP:20260421T192241
CREATED:20230302T141919Z
LAST-MODIFIED:20230302T141948Z
UID:7459-1681810200-1681817400@penworthamurc.org.uk
SUMMARY:Babyballet Tuesdays 9.30-11.30 am
DESCRIPTION:Babyballet\, fun music to movement classes for children 18 months to 5 years.\nClasses every Tuesday Morning; £18.00 for a 3 week trial.\ne-mail : liverpoolcentral@babyballet.co.uk\nTel       : 01517221987\nWeb    : www.babyballet.co.uk
URL:https://penworthamurc.org.uk/event/babyballet-tuesdays-9-30-11-30-am-7/
CATEGORIES:Community Activities
END:VEVENT
BEGIN:VEVENT
DTSTART;TZID=Europe/London:20230416T103000
DTEND;TZID=Europe/London:20230416T113000
DTSTAMP:20260421T192241
CREATED:20230302T135434Z
LAST-MODIFIED:20230402T184631Z
UID:7433-1681641000-1681644600@penworthamurc.org.uk
SUMMARY:Family Worship and PURC AGM
DESCRIPTION:Led by    The Elders
URL:https://penworthamurc.org.uk/event/family-worship/
LOCATION:PURC
CATEGORIES:Church Activities
END:VEVENT
BEGIN:VEVENT
DTSTART;TZID=Europe/London:20230415T103000
DTEND;TZID=Europe/London:20230415T123000
DTSTAMP:20260421T192241
CREATED:20230302T141039Z
LAST-MODIFIED:20230302T141150Z
UID:7443-1681554600-1681561800@penworthamurc.org.uk
SUMMARY:Penwortham Bead Group 10:30 - 12:30  ON 3RD SATURDAY OF EACH MONTH
DESCRIPTION:Led by Esther Turner   07855143050\, meets 3rd Saturday of each month\n£5.00 per session in Church Hall attached to the Church \nCome and see what we are about. Have a chat\, a laugh and get help on your project if needed. Have a coffee/tea and cake. Bring your own cup. The more the merrier. Looking forward to seeing you
URL:https://penworthamurc.org.uk/event/penwortham-bead-group-1030-1230-on-3rd-saturday-of-each-month/
CATEGORIES:Community Activities
END:VEVENT
BEGIN:VEVENT
DTSTART;TZID=Europe/London:20230411T093000
DTEND;TZID=Europe/London:20230411T113000
DTSTAMP:20260421T192241
CREATED:20230302T141846Z
LAST-MODIFIED:20230302T141909Z
UID:7457-1681205400-1681212600@penworthamurc.org.uk
SUMMARY:Babyballet Tuesdays 9.30-11.30 am
DESCRIPTION:Babyballet\, fun music to movement classes for children 18 months to 5 years.\nClasses every Tuesday Morning; £18.00 for a 3 week trial.\ne-mail : liverpoolcentral@babyballet.co.uk\nTel       : 01517221987\nWeb    : www.babyballet.co.uk
URL:https://penworthamurc.org.uk/event/babyballet-tuesdays-9-30-11-30-am-6/
CATEGORIES:Community Activities
END:VEVENT
BEGIN:VEVENT
DTSTART;TZID=Europe/London:20230409T103000
DTEND;TZID=Europe/London:20230409T113000
DTSTAMP:20260421T192241
CREATED:20230402T185122Z
LAST-MODIFIED:20230402T185238Z
UID:7534-1681036200-1681039800@penworthamurc.org.uk
SUMMARY:Easter Family Worship with the Sacrament of Holy Communion
DESCRIPTION:Led by Robert Bulloch
URL:https://penworthamurc.org.uk/event/easter-family-worship-with-the-sacrament-of-holy-communion/
LOCATION:PURC
CATEGORIES:Church Activities,Special Services
END:VEVENT
BEGIN:VEVENT
DTSTART;TZID=Europe/London:20230407T100000
DTEND;TZID=Europe/London:20230407T120000
DTSTAMP:20260421T192241
CREATED:20230302T155132Z
LAST-MODIFIED:20230304T164958Z
UID:7492-1680861600-1680868800@penworthamurc.org.uk
SUMMARY:Good Friday Ecumenical Walk of Witness and Act of Worship
DESCRIPTION:This years Ecumenical Good Friday Walk of Witness and Act of Worship will be held at Penwortham Methodist Church (see our Home Page) with the Walk of Witness from 10.00am and the Act of Worship at 11.00am
URL:https://penworthamurc.org.uk/event/good-friday-ecumenical-walk-of-witness-and-act-of-worship/
CATEGORIES:Church Activities,Special Services
END:VEVENT
BEGIN:VEVENT
DTSTART;TZID=Europe/London:20230406T193000
DTEND;TZID=Europe/London:20230406T203000
DTSTAMP:20260421T192241
CREATED:20230302T140409Z
LAST-MODIFIED:20230403T153211Z
UID:7441-1680809400-1680813000@penworthamurc.org.uk
SUMMARY:Maundy Thursday Evening Worship -7.30pm
DESCRIPTION:Led by James Mawdsley
URL:https://penworthamurc.org.uk/event/maundy-thursday-evening-worship-7-30pm/
CATEGORIES:Church Activities,Special Services
END:VEVENT
BEGIN:VEVENT
DTSTART;TZID=Europe/London:20230404T093000
DTEND;TZID=Europe/London:20230404T113000
DTSTAMP:20260421T192241
CREATED:20230302T141746Z
LAST-MODIFIED:20230302T141831Z
UID:7455-1680600600-1680607800@penworthamurc.org.uk
SUMMARY:Babyballet Tuesdays 9.30-11.30 am
DESCRIPTION:Babyballet\, fun music to movement classes for children 18 months to 5 years.\nClasses every Tuesday Morning; £18.00 for a 3 week trial.\ne-mail : liverpoolcentral@babyballet.co.uk\nTel       : 01517221987\nWeb    : www.babyballet.co.uk
URL:https://penworthamurc.org.uk/event/babyballet-tuesdays-9-30-11-30-am-5/
CATEGORIES:Community Activities
END:VEVENT
BEGIN:VEVENT
DTSTART;TZID=Europe/London:20230402T150000
DTEND;TZID=Europe/London:20230402T160000
DTSTAMP:20260421T192241
CREATED:20230302T135441Z
LAST-MODIFIED:20230403T143125Z
UID:7434-1680447600-1680451200@penworthamurc.org.uk
SUMMARY:Family Worship
DESCRIPTION:Led by Rev’d Martin Whiffen. Note time change to 3.00pm
URL:https://penworthamurc.org.uk/event/family-worship-6/
LOCATION:PURC
CATEGORIES:Church Activities,Special Services
END:VEVENT
BEGIN:VEVENT
DTSTART;VALUE=DATE:20250614
DTEND;VALUE=DATE:20250615
DTSTAMP:20260421T192241
CREATED:20220609T182616Z
LAST-MODIFIED:20250528T184550Z
UID:6888-1749859200-1749945599@penworthamurc.org.uk
SUMMARY:Penwortham Gala - 14th/15th June 2025 - Hurst Grange Park inc. Ecumenical Service on 15 June
DESCRIPTION:Penwortham Gala organised by Penwortham Town Council will take place on the 14/15 June 2025. See the  Penwortham Town Council for details.
URL:https://penworthamurc.org.uk/event/penwortham-gala-14th-15th-june-2025-hurst-grange-park-inc-ecumenical-service-on-15-june/
CATEGORIES:Community Activities
END:VEVENT
END:VCALENDAR