BEGIN:VCALENDAR
VERSION:2.0
PRODID:-//Penwortham United Reformed Church - ECPv6.15.20//NONSGML v1.0//EN
CALSCALE:GREGORIAN
METHOD:PUBLISH
X-WR-CALNAME:Penwortham United Reformed Church
X-ORIGINAL-URL:https://penworthamurc.org.uk
X-WR-CALDESC:Events for Penwortham United Reformed Church
REFRESH-INTERVAL;VALUE=DURATION:PT1H
X-Robots-Tag:noindex
X-PUBLISHED-TTL:PT1H
BEGIN:VTIMEZONE
TZID:Europe/London
BEGIN:DAYLIGHT
TZOFFSETFROM:+0000
TZOFFSETTO:+0100
TZNAME:BST
DTSTART:20220327T010000
END:DAYLIGHT
BEGIN:STANDARD
TZOFFSETFROM:+0100
TZOFFSETTO:+0000
TZNAME:GMT
DTSTART:20221030T010000
END:STANDARD
BEGIN:DAYLIGHT
TZOFFSETFROM:+0000
TZOFFSETTO:+0100
TZNAME:BST
DTSTART:20230326T010000
END:DAYLIGHT
BEGIN:STANDARD
TZOFFSETFROM:+0100
TZOFFSETTO:+0000
TZNAME:GMT
DTSTART:20231029T010000
END:STANDARD
BEGIN:DAYLIGHT
TZOFFSETFROM:+0000
TZOFFSETTO:+0100
TZNAME:BST
DTSTART:20240331T010000
END:DAYLIGHT
BEGIN:STANDARD
TZOFFSETFROM:+0100
TZOFFSETTO:+0000
TZNAME:GMT
DTSTART:20241027T010000
END:STANDARD
END:VTIMEZONE
BEGIN:VEVENT
DTSTART;TZID=Europe/London:20231105T103000
DTEND;TZID=Europe/London:20231105T113000
DTSTAMP:20260421T005850
CREATED:20230924T155800Z
LAST-MODIFIED:20230924T160049Z
UID:7841-1699180200-1699183800@penworthamurc.org.uk
SUMMARY:Family Worship with the Sacrament of Holy Communion
DESCRIPTION:Led by Margery Pitcher
URL:https://penworthamurc.org.uk/event/family-worship-with-the-sacrament-of-holy-communion-7/
LOCATION:PURC
CATEGORIES:Church Activities,Special Services
END:VEVENT
BEGIN:VEVENT
DTSTART;TZID=Europe/London:20231029T103000
DTEND;TZID=Europe/London:20231029T113000
DTSTAMP:20260421T005850
CREATED:20230827T144758Z
LAST-MODIFIED:20230827T144845Z
UID:7809-1698575400-1698579000@penworthamurc.org.uk
SUMMARY:Family Worship
DESCRIPTION:Led by  Rev’d Frank Kendall
URL:https://penworthamurc.org.uk/event/family-worship-19/
LOCATION:PURC
CATEGORIES:Church Activities
END:VEVENT
BEGIN:VEVENT
DTSTART;TZID=Europe/London:20231023T140000
DTEND;TZID=Europe/London:20231023T160000
DTSTAMP:20260421T005850
CREATED:20230928T184706Z
LAST-MODIFIED:20230928T184903Z
UID:7864-1698069600-1698076800@penworthamurc.org.uk
SUMMARY:Community Social Event - All Welcome
DESCRIPTION:On Monday 23 October 2023 at 2.00pm our next Community Event will be held – a talk by a representative of Derian House Children’s Hospice. See the “Home Page” for poster.
URL:https://penworthamurc.org.uk/event/community-social-event-all-welcome-3/
CATEGORIES:Church Activities,Community Activities
END:VEVENT
BEGIN:VEVENT
DTSTART;TZID=Europe/London:20231022T103000
DTEND;TZID=Europe/London:20231022T113000
DTSTAMP:20260421T005850
CREATED:20230827T142430Z
LAST-MODIFIED:20230827T144518Z
UID:7798-1697970600-1697974200@penworthamurc.org.uk
SUMMARY:Family Worship
DESCRIPTION:Led by  George Grime
URL:https://penworthamurc.org.uk/event/family-worship-17/
LOCATION:PURC
CATEGORIES:Church Activities
END:VEVENT
BEGIN:VEVENT
DTSTART;TZID=Europe/London:20231021T103000
DTEND;TZID=Europe/London:20231021T123000
DTSTAMP:20260421T005850
CREATED:20230827T144908Z
LAST-MODIFIED:20230827T144949Z
UID:7811-1697884200-1697891400@penworthamurc.org.uk
SUMMARY:Penwortham Bead Group 10:30 - 12:30 on 3rd Saturday of each month
DESCRIPTION:Led by Esther Turner   07855143050\, meets 3rd Saturday of each month\n£5.00 per session in Church Hall attached to the Church \nCome and see what we are about. Have a chat\, a laugh and get help on your project if needed. Have a coffee/tea and cake. Bring your own cup. The more the merrier. Looking forward to seeing you
URL:https://penworthamurc.org.uk/event/penwortham-bead-group-1030-1230-on-3rd-saturday-of-each-month-4/
CATEGORIES:Community Activities
END:VEVENT
BEGIN:VEVENT
DTSTART;TZID=Europe/London:20231015T103000
DTEND;TZID=Europe/London:20231015T113000
DTSTAMP:20260421T005850
CREATED:20230827T144658Z
LAST-MODIFIED:20230827T144746Z
UID:7807-1697365800-1697369400@penworthamurc.org.uk
SUMMARY:Family Worship
DESCRIPTION:Led by  Linda McLanachan
URL:https://penworthamurc.org.uk/event/family-worship-18/
LOCATION:PURC
CATEGORIES:Church Activities
END:VEVENT
BEGIN:VEVENT
DTSTART;TZID=Europe/London:20231001T150000
DTEND;TZID=Europe/London:20231001T160000
DTSTAMP:20260421T005850
CREATED:20230827T141126Z
LAST-MODIFIED:20230928T182805Z
UID:7790-1696172400-1696176000@penworthamurc.org.uk
SUMMARY:Family Worship with the Sacrament of Holy Communion
DESCRIPTION:Led by Rev’d Jennifer Liddell
URL:https://penworthamurc.org.uk/event/family-worship-with-the-sacrament-of-holy-communion-5/
LOCATION:PURC
CATEGORIES:Church Activities,Special Services
END:VEVENT
BEGIN:VEVENT
DTSTART;TZID=Europe/London:20230925T140000
DTEND;TZID=Europe/London:20230925T160000
DTSTAMP:20260421T005850
CREATED:20230827T145055Z
LAST-MODIFIED:20230901T131203Z
UID:7813-1695650400-1695657600@penworthamurc.org.uk
SUMMARY:Community Social Event - All Welcome
DESCRIPTION:On Monday 25 September 2023 at 2.00pm our next Community Event will be held – an illustrated talk by Peter Smith entitled “Nature in Close-up”. See “Home Page” for poster.
URL:https://penworthamurc.org.uk/event/community-social-event-all-welcome-2/
CATEGORIES:Church Activities,Community Activities
END:VEVENT
BEGIN:VEVENT
DTSTART;TZID=Europe/London:20230924T103000
DTEND;TZID=Europe/London:20230924T113000
DTSTAMP:20260421T005850
CREATED:20230827T141144Z
LAST-MODIFIED:20230827T142412Z
UID:7792-1695551400-1695555000@penworthamurc.org.uk
SUMMARY:Family Worship
DESCRIPTION:Led by  Rev’d Frank Kendall
URL:https://penworthamurc.org.uk/event/family-worship-16/
LOCATION:PURC
CATEGORIES:Church Activities
END:VEVENT
BEGIN:VEVENT
DTSTART;TZID=Europe/London:20230917T103000
DTEND;TZID=Europe/London:20230917T113000
DTSTAMP:20260421T005850
CREATED:20230827T141147Z
LAST-MODIFIED:20230827T142315Z
UID:7793-1694946600-1694950200@penworthamurc.org.uk
SUMMARY:Family Worship
DESCRIPTION:Led by  Rev’d Jennifer Liddell
URL:https://penworthamurc.org.uk/event/family-worship-15/
LOCATION:PURC
CATEGORIES:Church Activities
END:VEVENT
BEGIN:VEVENT
DTSTART;TZID=Europe/London:20230916T103000
DTEND;TZID=Europe/London:20230916T123000
DTSTAMP:20260421T005850
CREATED:20230827T142450Z
LAST-MODIFIED:20230827T144207Z
UID:7799-1694860200-1694867400@penworthamurc.org.uk
SUMMARY:Penwortham Bead Group 10:30 - 12:30 on 3rd Saturday of each month
DESCRIPTION:Led by Esther Turner   07855143050\, meets 3rd Saturday of each month\n£5.00 per session in Church Hall attached to the Church \nCome and see what we are about. Have a chat\, a laugh and get help on your project if needed. Have a coffee/tea and cake. Bring your own cup. The more the merrier. Looking forward to seeing you
URL:https://penworthamurc.org.uk/event/penwortham-bead-group-6/
CATEGORIES:Community Activities
END:VEVENT
BEGIN:VEVENT
DTSTART;TZID=Europe/London:20230910T103000
DTEND;TZID=Europe/London:20230910T113000
DTSTAMP:20260421T005850
CREATED:20230827T144305Z
LAST-MODIFIED:20230827T144412Z
UID:7802-1694341800-1694345400@penworthamurc.org.uk
SUMMARY:Parade Service - 5th Penwortham Scout Group
DESCRIPTION:Led by Carol and Henry Rose
URL:https://penworthamurc.org.uk/event/parade-service-5th-penwortham-scout-group-2/
LOCATION:PURC
CATEGORIES:Church Activities,Community Activities,Special Services
END:VEVENT
BEGIN:VEVENT
DTSTART;TZID=Europe/London:20230903T114500
DTEND;TZID=Europe/London:20230903T121500
DTSTAMP:20260421T005850
CREATED:20230830T123910Z
LAST-MODIFIED:20230830T123910Z
UID:7817-1693741500-1693743300@penworthamurc.org.uk
SUMMARY:Church Meeting - Sunday 3rd September
DESCRIPTION:A Church Meeting will be held following the Service on Sunday 3rd
URL:https://penworthamurc.org.uk/event/church-meeting-sunday-3rd-september/
CATEGORIES:Church Activities
END:VEVENT
BEGIN:VEVENT
DTSTART;TZID=Europe/London:20230903T103000
DTEND;TZID=Europe/London:20230903T113000
DTSTAMP:20260421T005850
CREATED:20230827T141138Z
LAST-MODIFIED:20230830T124038Z
UID:7791-1693737000-1693740600@penworthamurc.org.uk
SUMMARY:Family Worship with the Sacrament of Holy Communion
DESCRIPTION:Led by Rev’d Rob Hoch \nThis service will be followed by a Church Meeting
URL:https://penworthamurc.org.uk/event/family-worship-with-the-sacrament-of-holy-communion-4/
LOCATION:PURC
CATEGORIES:Church Activities,Special Services
END:VEVENT
BEGIN:VEVENT
DTSTART;TZID=Europe/London:20230827T103000
DTEND;TZID=Europe/London:20230827T113000
DTSTAMP:20260421T005850
CREATED:20230706T211330Z
LAST-MODIFIED:20230706T211657Z
UID:7746-1693132200-1693135800@penworthamurc.org.uk
SUMMARY:Family Worship
DESCRIPTION:Led by  Margery Pitcher
URL:https://penworthamurc.org.uk/event/family-worship-14/
LOCATION:PURC
CATEGORIES:Church Activities
END:VEVENT
BEGIN:VEVENT
DTSTART;TZID=Europe/London:20230820T103000
DTEND;TZID=Europe/London:20230820T113000
DTSTAMP:20260421T005850
CREATED:20230706T211322Z
LAST-MODIFIED:20230706T211510Z
UID:7745-1692527400-1692531000@penworthamurc.org.uk
SUMMARY:Family Worship
DESCRIPTION:Led by  Rev’d Jim Wilson      Service to be followed by refreshments
URL:https://penworthamurc.org.uk/event/family-worship-12/
LOCATION:PURC
CATEGORIES:Church Activities
END:VEVENT
BEGIN:VEVENT
DTSTART;TZID=Europe/London:20230819T103000
DTEND;TZID=Europe/London:20230819T123000
DTSTAMP:20260421T005850
CREATED:20230706T211724Z
LAST-MODIFIED:20230706T211816Z
UID:7751-1692441000-1692448200@penworthamurc.org.uk
SUMMARY:Penwortham Bead Group 10:30 - 12:30 ON 3RD SATURDAY OF EACH MONTH
DESCRIPTION:Led by Esther Turner   07855143050\, meets 3rd Saturday of each month\n£5.00 per session in Church Hall attached to the Church \nCome and see what we are about. Have a chat\, a laugh and get help on your project if needed. Have a coffee/tea and cake. Bring your own cup. The more the merrier. Looking forward to seeing you
URL:https://penworthamurc.org.uk/event/penwortham-bead-group/
CATEGORIES:Community Activities
END:VEVENT
BEGIN:VEVENT
DTSTART;TZID=Europe/London:20230813T103000
DTEND;TZID=Europe/London:20230813T113000
DTSTAMP:20260421T005850
CREATED:20230706T211342Z
LAST-MODIFIED:20230807T210538Z
UID:7747-1691922600-1691926200@penworthamurc.org.uk
SUMMARY:Family Worship
DESCRIPTION:Led by  Rev’d. Bernard Cocker\, CEO International Aid Trust
URL:https://penworthamurc.org.uk/event/family-worship-13/
LOCATION:PURC
CATEGORIES:Church Activities
END:VEVENT
BEGIN:VEVENT
DTSTART;TZID=Europe/London:20230806T103000
DTEND;TZID=Europe/London:20230806T113000
DTSTAMP:20260421T005850
CREATED:20230706T211122Z
LAST-MODIFIED:20230706T211304Z
UID:7743-1691317800-1691321400@penworthamurc.org.uk
SUMMARY:Family Worship with the Sacrament of Holy Communion
DESCRIPTION:Led by Robert Bulloch and Steven Mitchell
URL:https://penworthamurc.org.uk/event/family-worship-with-the-sacrament-of-holy-communion-3-copy/
LOCATION:PURC
CATEGORIES:Church Activities,Special Services
END:VEVENT
BEGIN:VEVENT
DTSTART;TZID=Europe/London:20230730T103000
DTEND;TZID=Europe/London:20230730T113000
DTSTAMP:20260421T005850
CREATED:20230529T143814Z
LAST-MODIFIED:20230723T115745Z
UID:7673-1690713000-1690716600@penworthamurc.org.uk
SUMMARY:Family Worship
DESCRIPTION:Led by  Bill McCartney
URL:https://penworthamurc.org.uk/event/family-worship-10/
LOCATION:PURC
CATEGORIES:Church Activities
END:VEVENT
BEGIN:VEVENT
DTSTART;TZID=Europe/London:20230725T093000
DTEND;TZID=Europe/London:20230725T103000
DTSTAMP:20260421T005850
CREATED:20230601T110536Z
LAST-MODIFIED:20230601T110751Z
UID:7690-1690277400-1690281000@penworthamurc.org.uk
SUMMARY:Babyballet Tuesdays 9.30-10.30 am
DESCRIPTION:Babyballet\, fun music to movement classes for children 18 months to 5 years.\nClasses every Tuesday Morning; £18.00 for a 3 week trial.\ne-mail : liverpoolcentral@babyballet.co.uk\nTel       : 01517221987\nWeb    : www.babyballet.co.uk
URL:https://penworthamurc.org.uk/event/babyballet-tuesdays-9-30-10-30-am-4/
CATEGORIES:Community Activities
END:VEVENT
BEGIN:VEVENT
DTSTART;TZID=Europe/London:20230723T103000
DTEND;TZID=Europe/London:20230723T113000
DTSTAMP:20260421T005850
CREATED:20230529T144056Z
LAST-MODIFIED:20230717T081148Z
UID:7677-1690108200-1690111800@penworthamurc.org.uk
SUMMARY:Family Worship
DESCRIPTION:“Songs of Praise” with Hymns chosen by the Fellowship
URL:https://penworthamurc.org.uk/event/family-worship-11/
LOCATION:PURC
CATEGORIES:Church Activities
END:VEVENT
BEGIN:VEVENT
DTSTART;TZID=Europe/London:20230718T093000
DTEND;TZID=Europe/London:20230718T103000
DTSTAMP:20260421T005850
CREATED:20230601T110543Z
LAST-MODIFIED:20230601T110704Z
UID:7691-1689672600-1689676200@penworthamurc.org.uk
SUMMARY:Babyballet Tuesdays 9.30-10.30 am
DESCRIPTION:Babyballet\, fun music to movement classes for children 18 months to 5 years.\nClasses every Tuesday Morning; £18.00 for a 3 week trial.\ne-mail : liverpoolcentral@babyballet.co.uk\nTel       : 01517221987\nWeb    : www.babyballet.co.uk
URL:https://penworthamurc.org.uk/event/babyballet-tuesdays-9-30-10-30-am-3/
CATEGORIES:Community Activities
END:VEVENT
BEGIN:VEVENT
DTSTART;TZID=Europe/London:20230716T103000
DTEND;TZID=Europe/London:20230716T113000
DTSTAMP:20260421T005850
CREATED:20230529T143822Z
LAST-MODIFIED:20230603T212159Z
UID:7674-1689503400-1689507000@penworthamurc.org.uk
SUMMARY:Family Worship
DESCRIPTION:Led by  Rev’d Frank Kendall      Service to be followed by refreshments
URL:https://penworthamurc.org.uk/event/family-worship-9/
LOCATION:PURC
CATEGORIES:Church Activities
END:VEVENT
BEGIN:VEVENT
DTSTART;TZID=Europe/London:20230711T093000
DTEND;TZID=Europe/London:20230711T103000
DTSTAMP:20260421T005850
CREATED:20230601T110548Z
LAST-MODIFIED:20230601T110627Z
UID:7692-1689067800-1689071400@penworthamurc.org.uk
SUMMARY:Babyballet Tuesdays 9.30-10.30 am
DESCRIPTION:Babyballet\, fun music to movement classes for children 18 months to 5 years.\nClasses every Tuesday Morning; £18.00 for a 3 week trial.\ne-mail : liverpoolcentral@babyballet.co.uk\nTel       : 01517221987\nWeb    : www.babyballet.co.uk
URL:https://penworthamurc.org.uk/event/babyballet-tuesdays-9-30-10-30-am-2/
CATEGORIES:Community Activities
END:VEVENT
BEGIN:VEVENT
DTSTART;TZID=Europe/London:20230709T103000
DTEND;TZID=Europe/London:20230709T113000
DTSTAMP:20260421T005850
CREATED:20230601T105359Z
LAST-MODIFIED:20230601T105517Z
UID:7682-1688898600-1688902200@penworthamurc.org.uk
SUMMARY:Parade Service and Induction of New Members
DESCRIPTION:Led by Rev’d Daleen Ten Cate
URL:https://penworthamurc.org.uk/event/parade-service-and-induction-of-new-members/
LOCATION:PURC
CATEGORIES:Church Activities,Community Activities,Special Services
END:VEVENT
BEGIN:VEVENT
DTSTART;TZID=Europe/London:20230704T093000
DTEND;TZID=Europe/London:20230704T103000
DTSTAMP:20260421T005850
CREATED:20230601T110420Z
LAST-MODIFIED:20230603T211813Z
UID:7688-1688463000-1688466600@penworthamurc.org.uk
SUMMARY:Babyballet Tuesdays 9.30-10.30 am
DESCRIPTION:Babyballet\, fun music to movement classes for children 18 months to 5 years.\nClasses every Tuesday Morning; £18.00 for a 3 week trial.\ne-mail : liverpoolcentral@babyballet.co.uk\nTel       : 01517221987\nWeb    : www.babyballet.co.uk
URL:https://penworthamurc.org.uk/event/babyballet-tuesdays-9-30-10-30-am/
CATEGORIES:Community Activities
END:VEVENT
BEGIN:VEVENT
DTSTART;TZID=Europe/London:20230702T150000
DTEND;TZID=Europe/London:20230702T160000
DTSTAMP:20260421T005850
CREATED:20230529T143614Z
LAST-MODIFIED:20230529T143742Z
UID:7671-1688310000-1688313600@penworthamurc.org.uk
SUMMARY:Family Worship with the Sacrament of Holy Communion
DESCRIPTION:Led by Rev’d Martin Whiffen
URL:https://penworthamurc.org.uk/event/family-worship-with-the-sacrament-of-holy-communion-3/
LOCATION:PURC
CATEGORIES:Church Activities,Special Services
END:VEVENT
BEGIN:VEVENT
DTSTART;TZID=Europe/London:20230627T093000
DTEND;TZID=Europe/London:20230627T113000
DTSTAMP:20260421T005850
CREATED:20230429T105348Z
LAST-MODIFIED:20230603T211801Z
UID:7629-1687858200-1687865400@penworthamurc.org.uk
SUMMARY:Babyballet Tuesdays 9.30-10.30 am
DESCRIPTION:Babyballet\, fun music to movement classes for children 18 months to 5 years.\nClasses every Tuesday Morning; £18.00 for a 3 week trial.\ne-mail : liverpoolcentral@babyballet.co.uk\nTel       : 01517221987\nWeb    : www.babyballet.co.uk
URL:https://penworthamurc.org.uk/event/babyballet-tuesdays-9-30-11-30-4/
CATEGORIES:Community Activities
END:VEVENT
BEGIN:VEVENT
DTSTART;TZID=Europe/London:20230626T140000
DTEND;TZID=Europe/London:20230626T160000
DTSTAMP:20260421T005850
CREATED:20230601T112723Z
LAST-MODIFIED:20230601T112902Z
UID:7703-1687788000-1687795200@penworthamurc.org.uk
SUMMARY:Community Social Event - All Welcome
DESCRIPTION:On Monday 26 June May 2023 at 2.00pm\, Guy Topping\, Managing Director of Barton Grange Group will present ” Creating Our Dream”.    Cost will be  £4.00 with refreshments
URL:https://penworthamurc.org.uk/event/community-social-event-all-welcome/
CATEGORIES:Church Activities,Community Activities
END:VEVENT
END:VCALENDAR