BEGIN:VCALENDAR
VERSION:2.0
PRODID:-//Penwortham United Reformed Church - ECPv6.15.20//NONSGML v1.0//EN
CALSCALE:GREGORIAN
METHOD:PUBLISH
X-WR-CALNAME:Penwortham United Reformed Church
X-ORIGINAL-URL:https://penworthamurc.org.uk
X-WR-CALDESC:Events for Penwortham United Reformed Church
REFRESH-INTERVAL;VALUE=DURATION:PT1H
X-Robots-Tag:noindex
X-PUBLISHED-TTL:PT1H
BEGIN:VTIMEZONE
TZID:Europe/London
BEGIN:DAYLIGHT
TZOFFSETFROM:+0000
TZOFFSETTO:+0100
TZNAME:BST
DTSTART:20240331T010000
END:DAYLIGHT
BEGIN:STANDARD
TZOFFSETFROM:+0100
TZOFFSETTO:+0000
TZNAME:GMT
DTSTART:20241027T010000
END:STANDARD
BEGIN:DAYLIGHT
TZOFFSETFROM:+0000
TZOFFSETTO:+0100
TZNAME:BST
DTSTART:20250330T010000
END:DAYLIGHT
BEGIN:STANDARD
TZOFFSETFROM:+0100
TZOFFSETTO:+0000
TZNAME:GMT
DTSTART:20251026T010000
END:STANDARD
BEGIN:DAYLIGHT
TZOFFSETFROM:+0000
TZOFFSETTO:+0100
TZNAME:BST
DTSTART:20260329T010000
END:DAYLIGHT
BEGIN:STANDARD
TZOFFSETFROM:+0100
TZOFFSETTO:+0000
TZNAME:GMT
DTSTART:20261025T010000
END:STANDARD
BEGIN:DAYLIGHT
TZOFFSETFROM:+0000
TZOFFSETTO:+0100
TZNAME:BST
DTSTART:20270328T010000
END:DAYLIGHT
BEGIN:STANDARD
TZOFFSETFROM:+0100
TZOFFSETTO:+0000
TZNAME:GMT
DTSTART:20271031T010000
END:STANDARD
END:VTIMEZONE
BEGIN:VEVENT
DTSTART;TZID=Europe/London:20260331T064500
DTEND;TZID=Europe/London:20260331T200000
DTSTAMP:20260420T022653
CREATED:20260121T170307Z
LAST-MODIFIED:20260123T164612Z
UID:9442-1774939500-1774987200@penworthamurc.org.uk
SUMMARY:PURC - Community Choir
DESCRIPTION:Penwortham URC – Community Choir on Tuesday 31 March 6:45-8:00 pm. for info contact Katie penworthamurcgamilyworker@gmail.com \n 
URL:https://penworthamurc.org.uk/event/purc-community-choir-10/
CATEGORIES:Church Activities,Community Activities
END:VEVENT
BEGIN:VEVENT
DTSTART;TZID=Europe/London:20260321T103000
DTEND;TZID=Europe/London:20260321T123000
DTSTAMP:20260420T022653
CREATED:20260120T214552Z
LAST-MODIFIED:20260124T091008Z
UID:9491-1774089000-1774096200@penworthamurc.org.uk
SUMMARY:Penwortham Bead Group 10:30 - 12:30 on 3rd Saturday of each month
DESCRIPTION:Led by Esther Turner   07855143050\, meets 3rd Saturday of each month\n£5.00 per session in Church Hall attached to the Church \nCome and see what we are about. Have a chat\, a laugh and get help on your project if needed. Have a coffee/tea and cake. Bring your own cup. The more the merrier. Looking forward to seeing you
URL:https://penworthamurc.org.uk/event/penwortham-bead-group-1030-1230-on-3rd-saturday-of-each-month-copy/
CATEGORIES:Community Activities
END:VEVENT
BEGIN:VEVENT
DTSTART;TZID=Europe/London:20260317T140000
DTEND;TZID=Europe/London:20260317T150000
DTSTAMP:20260420T022653
CREATED:20260125T170920Z
LAST-MODIFIED:20260125T170956Z
UID:9573-1773756000-1773759600@penworthamurc.org.uk
SUMMARY:Tiger Tots Music Club @ PURC
DESCRIPTION:Babies and Toddlers fun music sessions. Clck on title above and then on “poster” icon for latest details
URL:https://penworthamurc.org.uk/event/tiger-tots-music-club-purc-4/
CATEGORIES:Church Activities,Community Activities
END:VEVENT
BEGIN:VEVENT
DTSTART;TZID=Europe/London:20260314T143000
DTEND;TZID=Europe/London:20260314T163000
DTSTAMP:20260420T022653
CREATED:20260123T162915Z
LAST-MODIFIED:20260123T163853Z
UID:9471-1773498600-1773505800@penworthamurc.org.uk
SUMMARY:Messy Church @PURC : 2.30 - 4:30 14 March 2026
DESCRIPTION:Click on the Title above and then on the poster icon for details. The “Messy Church” Name and Logo are registered trademarks of Bible Reading Fellowship (BRF)\, a charity (22380) and company limited by guarantee (301324)\, registered in England and Wales. \n  \n 
URL:https://penworthamurc.org.uk/event/messy-church-purc-2-30-430-14-march-2026/
LOCATION:PURC
CATEGORIES:Church Activities,Community Activities
END:VEVENT
BEGIN:VEVENT
DTSTART;TZID=Europe/London:20260303T140000
DTEND;TZID=Europe/London:20260303T150000
DTSTAMP:20260420T022653
CREATED:20260125T170833Z
LAST-MODIFIED:20260125T170907Z
UID:9571-1772546400-1772550000@penworthamurc.org.uk
SUMMARY:Tiger Tots Music Club @ PURC
DESCRIPTION:Babies and Toddlers fun music sessions. Clck on title above and then on “poster” icon for latest details
URL:https://penworthamurc.org.uk/event/tiger-tots-music-club-purc-3/
CATEGORIES:Church Activities,Community Activities
END:VEVENT
BEGIN:VEVENT
DTSTART;TZID=Europe/London:20260224T064500
DTEND;TZID=Europe/London:20260224T200000
DTSTAMP:20260420T022653
CREATED:20260121T165202Z
LAST-MODIFIED:20260121T170049Z
UID:9436-1771915500-1771963200@penworthamurc.org.uk
SUMMARY:PURC -  Community Choir
DESCRIPTION:Penwortham URC – Community Choir on Tuesday 24 February 7:00-8:15 pm. for info contact Katie penworthamurcgamilyworker@gmail.com \n 
URL:https://penworthamurc.org.uk/event/purc-community-choir-6-copy/
CATEGORIES:Church Activities,Community Activities
END:VEVENT
BEGIN:VEVENT
DTSTART;TZID=Europe/London:20260223T140000
DTEND;TZID=Europe/London:20260223T160000
DTSTAMP:20260420T022653
CREATED:20260124T093917Z
LAST-MODIFIED:20260124T094309Z
UID:9501-1771855200-1771862400@penworthamurc.org.uk
SUMMARY:Community Social Afternoon - 2pm Mon. 23 Feb
DESCRIPTION:We welcome back Physiotherapist Jemma Oliver for a talk on “How to Move Well with Arthritis. For more details click on the title and then on the poster icon on the left. 
URL:https://penworthamurc.org.uk/event/c/
CATEGORIES:Church Activities,Community Activities
END:VEVENT
BEGIN:VEVENT
DTSTART;TZID=Europe/London:20260222T103000
DTEND;TZID=Europe/London:20260222T113000
DTSTAMP:20260420T022653
CREATED:20251126T194811Z
LAST-MODIFIED:20260121T153855Z
UID:9259-1771756200-1771759800@penworthamurc.org.uk
SUMMARY:Family Worship
DESCRIPTION:Led by Alan Edward \n 
URL:https://penworthamurc.org.uk/event/family-worship-75/
LOCATION:PURC
CATEGORIES:Church Activities
END:VEVENT
BEGIN:VEVENT
DTSTART;TZID=Europe/London:20260221T103000
DTEND;TZID=Europe/London:20260221T123000
DTSTAMP:20260420T022653
CREATED:20260120T220012Z
LAST-MODIFIED:20260124T090840Z
UID:9489-1771669800-1771677000@penworthamurc.org.uk
SUMMARY:Penwortham Bead Group 10:30 - 12:30 on 3rd Saturday of each month
DESCRIPTION:Led by Esther Turner   07855143050\, meets 3rd Saturday of each month\n£5.00 per session in Church Hall attached to the Church \nCome and see what we are about. Have a chat\, a laugh and get help on your project if needed. Have a coffee/tea and cake. Bring your own cup. The more the merrier. Looking forward to seeing you
URL:https://penworthamurc.org.uk/event/penwortham-bead-group-1030-1230-on-3rd-saturday-of-each-month-24/
CATEGORIES:Community Activities
END:VEVENT
BEGIN:VEVENT
DTSTART;TZID=Europe/London:20260216T140000
DTEND;TZID=Europe/London:20260216T153000
DTSTAMP:20260420T022653
CREATED:20260122T162622Z
LAST-MODIFIED:20260123T164703Z
UID:9448-1771250400-1771255800@penworthamurc.org.uk
SUMMARY:PURC-Creative Connections Art Club
DESCRIPTION:A free afternoon art club for adults is being launched at Penwortham United Reformed Church. For details click on the Title above and then on the poster icon on the left. \n 
URL:https://penworthamurc.org.uk/event/purc-creative-connections-art-club/
CATEGORIES:Church Activities,Community Activities
END:VEVENT
BEGIN:VEVENT
DTSTART;TZID=Europe/London:20260215T103000
DTEND;TZID=Europe/London:20260215T113000
DTSTAMP:20260420T022653
CREATED:20251126T194805Z
LAST-MODIFIED:20251126T195213Z
UID:9258-1771151400-1771155000@penworthamurc.org.uk
SUMMARY:Family Worship
DESCRIPTION:Led by Rev’d Brian Drury \n 
URL:https://penworthamurc.org.uk/event/family-worship-74/
LOCATION:PURC
CATEGORIES:Church Activities
END:VEVENT
BEGIN:VEVENT
DTSTART;TZID=Europe/London:20260214T143000
DTEND;TZID=Europe/London:20260214T163000
DTSTAMP:20260420T022653
CREATED:20260123T160031Z
LAST-MODIFIED:20260123T163812Z
UID:9089-1771079400-1771086600@penworthamurc.org.uk
SUMMARY:Messy Church @PURC : 2.30 - 4:30 14 February 2026
DESCRIPTION:Click on the Title above and then on the poster icon for details. The “Messy Church” Name and Logo are registered trademarks of Bible Reading Fellowship (BRF)\, a charity (22380) and company limited by guarantee (301324)\, registered in England and Wales. \n  \n 
URL:https://penworthamurc.org.uk/event/messy-church-purc-2-30-430-14-february-2026/
LOCATION:PURC
CATEGORIES:Church Activities,Community Activities
END:VEVENT
BEGIN:VEVENT
DTSTART;TZID=Europe/London:20260210T140000
DTEND;TZID=Europe/London:20260210T150000
DTSTAMP:20260420T022653
CREATED:20260125T170744Z
LAST-MODIFIED:20260125T170819Z
UID:9569-1770732000-1770735600@penworthamurc.org.uk
SUMMARY:Tiger Tots Music Club @ PURC
DESCRIPTION:Babies and Toddlers fun music sessions. Clck on title above and then on “poster” icon for latest details
URL:https://penworthamurc.org.uk/event/tiger-tots-music-club-purc-2/
CATEGORIES:Church Activities,Community Activities
END:VEVENT
BEGIN:VEVENT
DTSTART;TZID=Europe/London:20260208T103000
DTEND;TZID=Europe/London:20260208T113000
DTSTAMP:20260420T022653
CREATED:20251210T121311Z
LAST-MODIFIED:20251210T123230Z
UID:9283-1770546600-1770550200@penworthamurc.org.uk
SUMMARY:Parade Service - with 5th Penwortham Scout Group
DESCRIPTION:Led by Gillian Price \n 
URL:https://penworthamurc.org.uk/event/parade-service-with-5th-penwortham-scout-group-2/
LOCATION:PURC
CATEGORIES:Church Activities,Community Activities,Special Services
END:VEVENT
BEGIN:VEVENT
DTSTART;TZID=Europe/London:20260203T140000
DTEND;TZID=Europe/London:20260203T150000
DTSTAMP:20260420T022653
CREATED:20260125T170354Z
LAST-MODIFIED:20260125T170735Z
UID:9565-1770127200-1770130800@penworthamurc.org.uk
SUMMARY:Tiger Tots Music Club @ PURC
DESCRIPTION:Babies and Toddlers fun music sessions. Clck on title above and then on “poster” icon for latest details
URL:https://penworthamurc.org.uk/event/tiger-tots-music-club-purc/
CATEGORIES:Church Activities,Community Activities
END:VEVENT
BEGIN:VEVENT
DTSTART;TZID=Europe/London:20260201T223000
DTEND;TZID=Europe/London:20260201T223000
DTSTAMP:20260420T022653
CREATED:20251210T121126Z
LAST-MODIFIED:20251210T121244Z
UID:9281-1769985000-1769985000@penworthamurc.org.uk
SUMMARY:Family Worship with the Sacrament of Holy Communion
DESCRIPTION:Led by Rev’d Daleen Ten Cate \nFollowed by refreshments  \n  \n  \n 
URL:https://penworthamurc.org.uk/event/family-worship-with-the-sacrament-of-holy-communion-31/
LOCATION:PURC
CATEGORIES:Church Activities,Special Services
END:VEVENT
BEGIN:VEVENT
DTSTART;TZID=Europe/London:20260127T064500
DTEND;TZID=Europe/London:20260127T200000
DTSTAMP:20260420T022653
CREATED:20260121T170112Z
LAST-MODIFIED:20260123T164755Z
UID:9440-1769496300-1769544000@penworthamurc.org.uk
SUMMARY:PURC -  Community Choir
DESCRIPTION:Penwortham URC – Community Choir on Tuesday 27 January 6:45-8:00 pm. for info contact Katie penworthamurcgamilyworker@gmail.com \n 
URL:https://penworthamurc.org.uk/event/purc-community-choir-9/
CATEGORIES:Church Activities,Community Activities
END:VEVENT
BEGIN:VEVENT
DTSTART;TZID=Europe/London:20260125T103000
DTEND;TZID=Europe/London:20260125T113000
DTSTAMP:20260420T022653
CREATED:20251126T194759Z
LAST-MODIFIED:20251210T121048Z
UID:9257-1769337000-1769340600@penworthamurc.org.uk
SUMMARY:Family Worship
DESCRIPTION:Led by Steven Mitchell \n 
URL:https://penworthamurc.org.uk/event/family-worship-73/
LOCATION:PURC
CATEGORIES:Church Activities
END:VEVENT
BEGIN:VEVENT
DTSTART;TZID=Europe/London:20260118T103000
DTEND;TZID=Europe/London:20260118T113000
DTSTAMP:20260420T022653
CREATED:20251126T194751Z
LAST-MODIFIED:20251126T194948Z
UID:9256-1768732200-1768735800@penworthamurc.org.uk
SUMMARY:Family Worship
DESCRIPTION:Led by Margery Pitcher \n 
URL:https://penworthamurc.org.uk/event/family-worship-72/
LOCATION:PURC
CATEGORIES:Church Activities
END:VEVENT
BEGIN:VEVENT
DTSTART;TZID=Europe/London:20260111T103000
DTEND;TZID=Europe/London:20260111T113000
DTSTAMP:20260420T022653
CREATED:20251210T120634Z
LAST-MODIFIED:20251210T120803Z
UID:9278-1768127400-1768131000@penworthamurc.org.uk
SUMMARY:Parade Service - with 5th Penwortham Scout Group
DESCRIPTION:Led by the Elders \n 
URL:https://penworthamurc.org.uk/event/parade-service-with-5th-penwortham-scout-group/
LOCATION:PURC
CATEGORIES:Church Activities,Community Activities,Special Services
END:VEVENT
BEGIN:VEVENT
DTSTART;TZID=Europe/London:20260104T223000
DTEND;TZID=Europe/London:20260104T223000
DTSTAMP:20260420T022653
CREATED:20251210T120402Z
LAST-MODIFIED:20251210T120528Z
UID:9276-1767565800-1767565800@penworthamurc.org.uk
SUMMARY:Family Worship with the Sacrament of Holy Communion
DESCRIPTION:Led by Gill Turner \nFollowed by refreshments  \n  \n  \n 
URL:https://penworthamurc.org.uk/event/family-worship-with-the-sacrament-of-holy-communion-30/
LOCATION:PURC
CATEGORIES:Church Activities,Special Services
END:VEVENT
BEGIN:VEVENT
DTSTART;TZID=Europe/London:20251228T103000
DTEND;TZID=Europe/London:20251228T113000
DTSTAMP:20260420T022653
CREATED:20251030T165441Z
LAST-MODIFIED:20251210T120914Z
UID:9243-1766917800-1766921400@penworthamurc.org.uk
SUMMARY:No Sunday Service Today
DESCRIPTION:Led by  \n 
URL:https://penworthamurc.org.uk/event/family-worship-71/
LOCATION:PURC
CATEGORIES:Church Activities
END:VEVENT
BEGIN:VEVENT
DTSTART;TZID=Europe/London:20251225T103000
DTEND;TZID=Europe/London:20251225T113000
DTSTAMP:20260420T022653
CREATED:20251030T165209Z
LAST-MODIFIED:20251030T165314Z
UID:9240-1766658600-1766662200@penworthamurc.org.uk
SUMMARY:Christmas Day Family Worship
DESCRIPTION:Led by Robert Bulloch
URL:https://penworthamurc.org.uk/event/christmas-day-family-worship-3/
LOCATION:PURC
CATEGORIES:Church Activities,Community Activities,Special Services
END:VEVENT
BEGIN:VEVENT
DTSTART;TZID=Europe/London:20251221T103000
DTEND;TZID=Europe/London:20251221T113000
DTSTAMP:20260420T022653
CREATED:20251030T164916Z
LAST-MODIFIED:20251030T165359Z
UID:9238-1766313000-1766316600@penworthamurc.org.uk
SUMMARY:Carol Service
DESCRIPTION:Led by  \n 
URL:https://penworthamurc.org.uk/event/carol-service-3/
LOCATION:PURC
CATEGORIES:Church Activities,Community Activities,Special Services
END:VEVENT
BEGIN:VEVENT
DTSTART;TZID=Europe/London:20251214T103000
DTEND;TZID=Europe/London:20251214T113000
DTSTAMP:20260420T022653
CREATED:20251030T164712Z
LAST-MODIFIED:20251126T195514Z
UID:9236-1765708200-1765711800@penworthamurc.org.uk
SUMMARY:Parade & Toy Service - with 5th Penwortham Scout Group
DESCRIPTION:Led by Rev’d Anton Muller \n 
URL:https://penworthamurc.org.uk/event/family-worship-and-parade-service-with-5th-penwortham-scout-group-14/
LOCATION:PURC
CATEGORIES:Church Activities,Special Services
END:VEVENT
BEGIN:VEVENT
DTSTART;TZID=Europe/London:20251207T103000
DTEND;TZID=Europe/London:20251207T113000
DTSTAMP:20260420T022653
CREATED:20251030T164440Z
LAST-MODIFIED:20251030T165607Z
UID:9234-1765103400-1765107000@penworthamurc.org.uk
SUMMARY:Christingle Service
DESCRIPTION:Led by The Elders and followed by refreshments
URL:https://penworthamurc.org.uk/event/christingle-service/
LOCATION:PURC
CATEGORIES:Church Activities,Special Services
END:VEVENT
BEGIN:VEVENT
DTSTART;TZID=Europe/London:20251130T103000
DTEND;TZID=Europe/London:20251130T113000
DTSTAMP:20260420T022653
CREATED:20250926T155110Z
LAST-MODIFIED:20250926T155204Z
UID:9119-1764498600-1764502200@penworthamurc.org.uk
SUMMARY:Family Worship
DESCRIPTION:Led by Rev’d Daleen Ten Cate \n 
URL:https://penworthamurc.org.uk/event/family-worship-70/
LOCATION:PURC
CATEGORIES:Church Activities
END:VEVENT
BEGIN:VEVENT
DTSTART;TZID=Europe/London:20251129T103000
DTEND;TZID=Europe/London:20251129T130000
DTSTAMP:20260420T022653
CREATED:20251126T194535Z
LAST-MODIFIED:20251126T194535Z
UID:9254-1764412200-1764421200@penworthamurc.org.uk
SUMMARY:PURC HOSTS NSPCC EVENTS ON SATURDAY 29 NOV 2025
DESCRIPTION:Click on the Icons to reveal details of 2 NSPCC events at Penwortham United Reformed Church on Saturday 29th November between 10:30 am and 1:30 pm 
URL:https://penworthamurc.org.uk/event/purc-hosts-nspcc-events-on-saturday-29-nov-2025/
CATEGORIES:Church Activities,Community Activities
END:VEVENT
BEGIN:VEVENT
DTSTART;TZID=Europe/London:20251123T103000
DTEND;TZID=Europe/London:20251123T113000
DTSTAMP:20260420T022653
CREATED:20250926T154856Z
LAST-MODIFIED:20250926T155103Z
UID:9115-1763893800-1763897400@penworthamurc.org.uk
SUMMARY:Family Worship
DESCRIPTION:Led by The Elders \n 
URL:https://penworthamurc.org.uk/event/family-worship-69/
LOCATION:PURC
CATEGORIES:Church Activities
END:VEVENT
BEGIN:VEVENT
DTSTART;TZID=Europe/London:20251118T190000
DTEND;TZID=Europe/London:20251118T201500
DTSTAMP:20260420T022653
CREATED:20250830T102548Z
LAST-MODIFIED:20250830T103545Z
UID:8994-1763492400-1763496900@penworthamurc.org.uk
SUMMARY:PURC -  Community Choir
DESCRIPTION:Penwortham URC – Community Choir on Tuesday 18th November 7:00-8:15 pm. For info. contact Katie penworthamfamily worker@gmail.com
URL:https://penworthamurc.org.uk/event/purc-community-choir-8/
CATEGORIES:Church Activities,Community Activities
END:VEVENT
END:VCALENDAR