BEGIN:VCALENDAR
VERSION:2.0
PRODID:-//Penwortham United Reformed Church - ECPv6.15.20//NONSGML v1.0//EN
CALSCALE:GREGORIAN
METHOD:PUBLISH
X-ORIGINAL-URL:https://penworthamurc.org.uk
X-WR-CALDESC:Events for Penwortham United Reformed Church
REFRESH-INTERVAL;VALUE=DURATION:PT1H
X-Robots-Tag:noindex
X-PUBLISHED-TTL:PT1H
BEGIN:VTIMEZONE
TZID:Europe/London
BEGIN:DAYLIGHT
TZOFFSETFROM:+0000
TZOFFSETTO:+0100
TZNAME:BST
DTSTART:20250330T010000
END:DAYLIGHT
BEGIN:STANDARD
TZOFFSETFROM:+0100
TZOFFSETTO:+0000
TZNAME:GMT
DTSTART:20251026T010000
END:STANDARD
BEGIN:DAYLIGHT
TZOFFSETFROM:+0000
TZOFFSETTO:+0100
TZNAME:BST
DTSTART:20260329T010000
END:DAYLIGHT
BEGIN:STANDARD
TZOFFSETFROM:+0100
TZOFFSETTO:+0000
TZNAME:GMT
DTSTART:20261025T010000
END:STANDARD
BEGIN:DAYLIGHT
TZOFFSETFROM:+0000
TZOFFSETTO:+0100
TZNAME:BST
DTSTART:20270328T010000
END:DAYLIGHT
BEGIN:STANDARD
TZOFFSETFROM:+0100
TZOFFSETTO:+0000
TZNAME:GMT
DTSTART:20271031T010000
END:STANDARD
END:VTIMEZONE
BEGIN:VEVENT
DTSTART;TZID=Europe/London:20260314T143000
DTEND;TZID=Europe/London:20260314T163000
DTSTAMP:20260419T232233
CREATED:20260123T162915Z
LAST-MODIFIED:20260123T163853Z
UID:9471-1773498600-1773505800@penworthamurc.org.uk
SUMMARY:Messy Church @PURC : 2.30 - 4:30 14 March 2026
DESCRIPTION:Click on the Title above and then on the poster icon for details. The “Messy Church” Name and Logo are registered trademarks of Bible Reading Fellowship (BRF)\, a charity (22380) and company limited by guarantee (301324)\, registered in England and Wales. \n  \n 
URL:https://penworthamurc.org.uk/event/messy-church-purc-2-30-430-14-march-2026/
LOCATION:PURC
CATEGORIES:Church Activities,Community Activities
END:VEVENT
END:VCALENDAR