BEGIN:VCALENDAR
VERSION:2.0
PRODID:-//Penwortham United Reformed Church - ECPv6.15.20//NONSGML v1.0//EN
CALSCALE:GREGORIAN
METHOD:PUBLISH
X-ORIGINAL-URL:https://penworthamurc.org.uk
X-WR-CALDESC:Events for Penwortham United Reformed Church
REFRESH-INTERVAL;VALUE=DURATION:PT1H
X-Robots-Tag:noindex
X-PUBLISHED-TTL:PT1H
BEGIN:VTIMEZONE
TZID:Europe/London
BEGIN:DAYLIGHT
TZOFFSETFROM:+0000
TZOFFSETTO:+0100
TZNAME:BST
DTSTART:20240331T010000
END:DAYLIGHT
BEGIN:STANDARD
TZOFFSETFROM:+0100
TZOFFSETTO:+0000
TZNAME:GMT
DTSTART:20241027T010000
END:STANDARD
BEGIN:DAYLIGHT
TZOFFSETFROM:+0000
TZOFFSETTO:+0100
TZNAME:BST
DTSTART:20250330T010000
END:DAYLIGHT
BEGIN:STANDARD
TZOFFSETFROM:+0100
TZOFFSETTO:+0000
TZNAME:GMT
DTSTART:20251026T010000
END:STANDARD
BEGIN:DAYLIGHT
TZOFFSETFROM:+0000
TZOFFSETTO:+0100
TZNAME:BST
DTSTART:20260329T010000
END:DAYLIGHT
BEGIN:STANDARD
TZOFFSETFROM:+0100
TZOFFSETTO:+0000
TZNAME:GMT
DTSTART:20261025T010000
END:STANDARD
END:VTIMEZONE
BEGIN:VEVENT
DTSTART;TZID=Europe/London:20250318T100000
DTEND;TZID=Europe/London:20250318T120000
DTSTAMP:20260419T215144
CREATED:20250328T164033Z
LAST-MODIFIED:20250402T113033Z
UID:8719-1742292000-1742299200@penworthamurc.org.uk
SUMMARY:Good Friday Ecumenical Walk of Witness and Act of Worship
DESCRIPTION:This years Churches Together in Penwortham – Ecumenical Good Friday Walk of Witness and Act of Worship will be held at Kingsfold Methodist Church\, Penwortham with the Walk of Witness from 10.00am and the Act of Worship at 11.00am on 18th April 2025
URL:https://penworthamurc.org.uk/event/good-friday-ecumenical-walk-of-witness-and-act-of-worship-3/
CATEGORIES:Church Activities,Community Activities,Special Services
END:VEVENT
END:VCALENDAR